BEGIN:VCALENDAR
VERSION:2.0
PRODID:-//ChamberMaster//Event Calendar 2.0//EN
METHOD:PUBLISH
X-PUBLISHED-TTL:P3D
REFRESH-INTERVAL:P3D
CALSCALE:GREGORIAN
BEGIN:VEVENT
DTSTART:20150806T210000Z
DTEND:20150806T230000Z
X-MICROSOFT-CDO-ALLDAYEVENT:FALSE
SUMMARY:GC Social Hour at The Block - August 2015
DESCRIPTION:Generation Charleston will host its monthly Social Hour event 5   7 p.m. Thursday\, Aug. 6 at The Block at 201 Capitol Street.\n\nSocial Hour gives members the opportunity to socialize and network with other young professionals in a relaxed setting. Social Hour is hosted at a different venue each month\, introducing members to new and diverse establishments.\n\n\n\nSocial Hour is open to the public with no admission fee. However\, guests are required to register online to attend.
X-ALT-DESC;FMTTYPE=text/html:<p>Generation Charleston will host its monthly Social Hour event 5 &ndash\; 7 p.m. Thursday\,&nbsp\;Aug. 6&nbsp\;at The Block at 201 Capitol Street.</p>\n\n<p>Social Hour gives members the opportunity to socialize and network with other young professionals in a relaxed setting. Social Hour is hosted at a different venue each month\, introducing members to new and diverse establishments.<br />\n<br />\nSocial Hour is open to the public with no admission fee. However\, guests are required to register online to attend.<br />\n<br />\n&nbsp\;</p>\n
LOCATION:The Block 201 Capitol Street Charleston\, WV 25301
UID:e.1499.793
SEQUENCE:3
DTSTAMP:20260421T003333Z
URL:https://business.charlestonareaalliance.org/events/details/gc-social-hour-at-the-block-august-2015-08-06-2015-793
END:VEVENT

END:VCALENDAR
