BEGIN:VCALENDAR
VERSION:2.0
PRODID:-//ChamberMaster//Event Calendar 2.0//EN
METHOD:PUBLISH
X-PUBLISHED-TTL:P3D
REFRESH-INTERVAL:P3D
CALSCALE:GREGORIAN
BEGIN:VEVENT
DTSTART:20150409T213000Z
DTEND:20150409T233000Z
X-MICROSOFT-CDO-ALLDAYEVENT:FALSE
SUMMARY:GC Social Hour - April 2015
DESCRIPTION:Generation Charleston's Social Hour will be at the Marriott Brick Salt Bar+Kitchen at 5:30 p.m. Thursday\, April 9. \n\nGuests who RSVP in advance will receive a drink ticket at the event.\n\n\n\nJoin us for complimentary food\, drink specials and the opportunity to mix and mingle with the area's young talent.  \n\n\n\nGC Social Hour is always open to the public with no admission fee\, but RSVP is required.\n\n\n\nMix and mingle with Generation Charleston and the rest of city's young talent.\n\n\n\nGeneration Charleston: Live\, Work\, Play
X-ALT-DESC;FMTTYPE=text/html:<p>Generation Charleston&#39\;s Social Hour&nbsp\;will be&nbsp\;at the&nbsp\;Marriott&nbsp\;Brick Salt Bar+Kitchen&nbsp\;at 5:30 p.m.&nbsp\;Thursday\, April 9.&nbsp\;</p>\n\n<p><strong>Guests who RSVP in advance will receive a drink ticket at the event.</strong><br />\n<br />\nJoin us for complimentary food\, drink specials and the opportunity to mix and mingle with the area&#39\;s young talent.&nbsp\;&nbsp\;<br />\n<br />\nGC Social Hour&nbsp\;is always open to the public with no admission fee\, but RSVP is required.<br />\n<br />\nMix and mingle with Generation Charleston and the rest of city&#39\;s young talent.<br />\n<br />\nGeneration Charleston: Live\, Work\, Play</p>\n
LOCATION:200 Lee Street East Charleston\, WV 25301 304-353-3636
UID:e.1499.758
SEQUENCE:3
DTSTAMP:20260421T054324Z
URL:https://business.charlestonareaalliance.org/events/details/gc-social-hour-april-2015-04-09-2015-758
END:VEVENT

END:VCALENDAR
