BEGIN:VCALENDAR
VERSION:2.0
PRODID:-//ChamberMaster//Event Calendar 2.0//EN
METHOD:PUBLISH
X-PUBLISHED-TTL:P3D
REFRESH-INTERVAL:P3D
CALSCALE:GREGORIAN
BEGIN:VEVENT
DTSTART:20150812T170000Z
DTEND:20150812T180000Z
X-MICROSOFT-CDO-ALLDAYEVENT:FALSE
SUMMARY:GC Education Elevators Event - August 2015
DESCRIPTION:Education Elevators\n\nWednesday\, Aug. 12\n\nNoon - 1 p.m.\n\nJackson Kelly PLLC\n\n500 Lee Street East\,16th Floor\n\n\n\nWant to engage in your favorite activities during lunch?\n\n \n\nDo you want to be a role model for a child in your community?\n\n\n\nThen the Education Elevators program is for you.\n\n\n\nGeneration Charleston is pleased to be teaming up with the Education Elevators program as one of our new community outreach initiatives.   \n\n\n\nEducation Elevators\, a program of Charleston Area Alliance member The Education Alliance\, is a mentoring program that matches volunteers (Elevators) from the business community with individual students for mentoring\, academic support and friendship.  \n\n\n\nElevators meet with their assigned student one-on-one for approximately 30-45 minutes each week during regular school hours on school grounds.   \n\n\n\nThe mission of the program is to "elevate" the abilities and aspirations of students.  \n\n\n\nCurrently\, members of GC can elect to mentor a student at Piedmont\, Grandview or Chamberlain Elementary.\n\n\n\nThrough involvement in the Education Elevators program\, you can make a difference by supporting\, mentoring and inspiring children in our community.   \n\n\n\nWe encourage GC members to attend the training and orientation to learn more about the program.  (There is no commitment to become an Elevator if you attend the training).  \n\n\n\nYou must be a member of GC to attend. Food will be provided.\n\n\n\nRSVP is required.\n\n\n\nYou can learn more about the program at: www.educationelevators.org\n\n\n\nGeneration Charleston: Live\, Work\, Play!
X-ALT-DESC;FMTTYPE=text/html:<br />\n<strong>Education Elevators</strong><br />\nWednesday\, Aug. 12<br />\nNoon - 1 p.m.<br />\nJackson Kelly PLLC<br />\n500 Lee Street East\,16th Floor<br />\n<br />\nWant to engage in your favorite activities during lunch?<br />\n&nbsp\;<br />\nDo you want to be a role model for a child in your community?<br />\n<br />\nThen the Education Elevators program is for you.<br />\n<br />\nGeneration Charleston is pleased to be teaming up with the Education Elevators program as one of our new community outreach initiatives.&nbsp\; &nbsp\;<br />\n<br />\nEducation Elevators\, a program of Charleston Area Alliance member The Education Alliance\, is a mentoring program that matches volunteers (Elevators) from the business community with individual students for mentoring\, academic support and friendship. &nbsp\;<br />\n<br />\nElevators meet with their assigned student one-on-one for approximately 30-45 minutes each week during regular school hours on school grounds.&nbsp\; &nbsp\;<br />\n<br />\nThe mission of the program is to &quot\;elevate&quot\; the abilities and aspirations of students. &nbsp\;<br />\n<br />\nCurrently\, members of GC can elect to mentor a student at Piedmont\, Grandview or Chamberlain Elementary.<br />\n<br />\nThrough involvement in the Education Elevators program\, you can make a difference by supporting\, mentoring and inspiring children in our community.&nbsp\; &nbsp\;<br />\n<br />\nWe encourage GC members to attend the training and orientation to learn more about the program.&nbsp\; (There is no commitment to become an Elevator if you attend the training). &nbsp\;<br />\n<br />\nYou must be a member of GC to attend. Food will be provided.<br />\n<br />\nRSVP is required.<br />\n<br />\nYou can learn more about the program at: www.educationelevators.org<br />\n<br />\nGeneration Charleston: Live\, Work\, Play!<br />\n<br />\n&nbsp\;
LOCATION:Jackson Kelly PLLC 500 Lee Street East\, 16th Floor
UID:e.1499.800
SEQUENCE:3
DTSTAMP:20260421T014409Z
URL:https://business.charlestonareaalliance.org/events/details/gc-education-elevators-event-august-2015-08-12-2015-800
END:VEVENT

END:VCALENDAR
