BEGIN:VCALENDAR
VERSION:2.0
PRODID:-//ChamberMaster//Event Calendar 2.0//EN
METHOD:PUBLISH
X-PUBLISHED-TTL:P3D
REFRESH-INTERVAL:P3D
CALSCALE:GREGORIAN
BEGIN:VEVENT
DTSTART:20170307T130000Z
DTEND:20170307T140000Z
X-MICROSOFT-CDO-ALLDAYEVENT:FALSE
SUMMARY:Gain Prosper Succeed with Rusty Kruzelock
DESCRIPTION:Generation Charleston will host its monthly Gain Prosper Succeed (GPS) breakfast with Rusty Kruzelock\, Ph. D.\, CEO of the West Virginia Regional Technology Park\, at 8 a.m. Tuesday\, March 7 at the West Virginia Regional Technology Park in South Charleston. The event is limited to the first 15 Generation Charleston members who register. \n\nGain\, Prosper\, Succeed (GPS) is a breakfast series with selected community leaders and a small number of Generation Charleston members. This small group format allows members to have an intimate discussion with the selected guest. Guests provide tips and advice on leadership and a fresh perspective on timely topics. Generation Charleston members gain insight on skill development as an up-and-coming business professional and build connections with business leaders in the Kanawha Valley.\n\n\n\nKruzelock has served as CEO of the West Virginia Regional Technology Park since 2013. He previously worked in chief executive roles at several science and technology commercialization companies\, where he cultivated the ability to help transform abstract ideas into completed\, market-ready projects. He presently uses these skill sets in his role at the WVRTP\, which is dedicated to research\, education\, technology development\, and entrepreneurial business creation.\n\n\n\nFor more information\, visit www.generationcharleston.com.
X-ALT-DESC;FMTTYPE=text/html:<p>Generation Charleston will host its monthly Gain Prosper Succeed (GPS) breakfast with Rusty Kruzelock\, Ph. D.\, CEO of the West Virginia Regional Technology Park\,&nbsp\;at 8 a.m. Tuesday\, March 7 at the West Virginia Regional Technology Park in South Charleston. The event is limited to the first 15 Generation Charleston members who register.&nbsp\;</p>\n\n<p>Gain\, Prosper\, Succeed (GPS) is a breakfast series&nbsp\;with&nbsp\;selected community leaders and a&nbsp\;small&nbsp\;number of Generation Charleston&nbsp\;members. This small group format&nbsp\;allows&nbsp\;members to have an&nbsp\;intimate discussion with the&nbsp\;selected guest.&nbsp\;Guests provide tips and advice on leadership and a&nbsp\;fresh perspective on timely topics.&nbsp\;Generation Charleston members gain&nbsp\;insight on skill development as an up-and-coming business professional and build connections with&nbsp\;business leaders in the Kanawha Valley.<br />\n<br />\nKruzelock has served as CEO of the West Virginia Regional Technology Park since 2013. He previously worked in chief executive roles at several science and technology commercialization companies\, where he cultivated the ability to help transform abstract ideas into completed\, market-ready projects. He presently uses these skill sets in his role at the WVRTP\, which is dedicated to research\, education\, technology development\, and entrepreneurial business creation.<br />\n<br />\nFor more information\, visit <a href="http://www.generationcharleston.com">www.generationcharleston.com</a>.</p>\n
LOCATION:West Virginia Regional Technology Park 1740 Union Carbide Drive South Charleston\, WV 25303 (building 2000\, near Conference Room. Enter through back of building.)
UID:e.1499.1928
SEQUENCE:3
DTSTAMP:20260419T224653Z
URL:https://business.charlestonareaalliance.org/events/details/gain-prosper-succeed-with-rusty-kruzelock-1928
END:VEVENT

END:VCALENDAR
