BEGIN:VCALENDAR
VERSION:2.0
PRODID:-//ChamberMaster//Event Calendar 2.0//EN
METHOD:PUBLISH
X-PUBLISHED-TTL:P3D
REFRESH-INTERVAL:P3D
CALSCALE:GREGORIAN
BEGIN:VEVENT
DTSTART:20130327T213000Z
DTEND:20130328T000000Z
X-MICROSOFT-CDO-ALLDAYEVENT:FALSE
SUMMARY:Gain. Prosper. Succeed. Navigate your career path with Dr. Sartarelli
DESCRIPTION:Join keynote speaker Jose V. Sartarelli\, Ph.D\, Dean of the WVU College of Business and former executive of Johnson & Johnson for an engaging discussion on navigating your career path. Organized by Generation Charleston's Professional and Economic Development team\, this event is sure to benefit all in attendance. Enjoy food and drinks with your career coaching session hosted at the Charleston Area Alliance (large conference room).\n\n	\n\n	Generation Charleston engages and empowers the Capital City's emerging leaders to create a more vibrant and prosperous economy through community involvement\, professional development and social networking centered around a theme of Live\, Work\, Play in Charleston\, the Kanawha Valley Region and West Virginia. Interested in getting involved with GC? Email your resume and letter of interest to Matthew Thompson\, the Alliance's Communications Manager and Director of Generation Charleston.\n\n	If you work with with an Alliance-member business and need assistance locating your password\, email Leigh Anne Strickland\, Director of Member Programs and Services.
X-ALT-DESC;FMTTYPE=text/html:<p>\n	Join keynote speaker Jose V. Sartarelli\, Ph.D\, Dean of the WVU College of Business and former executive of Johnson &amp\; Johnson for an engaging discussion on navigating your career path. Organized by Generation Charleston&#39\;s Professional and Economic Development team\, this event is sure to benefit all in attendance. Enjoy food and drinks with your career coaching session hosted at the Charleston Area Alliance (large conference room).<br />\n	<br />\n	<font color="#000000">Generation Charleston engages and empowers the Capital City&#39\;s emerging leaders to create a more vibrant and prosperous economy through community involvement\, professional development and social networking centered around a theme of Live\, Work\, Play in Charleston\, the Kanawha Valley Region and West Virginia. Interested in getting involved with GC? Email your resume and letter of interest to <a href="mailto:MThompson@charlestonareaalliance.org?subject=GC%20Interest">Matthew Thompson</a>\, the Alliance&#39\;s Communications Manager and Director of Generation Charleston.</font></p>\n<p>\n	<font color="#000000">If you work with with an Alliance-member business and need assistance locating your </font><span style="color:#b22222\;">password</span><font color="#000000">\, email <a href="mailto:LStrickland@charlestonareaalliance.org?subject=Password%20Inquiry">Leigh Anne Strickland</a>\, Director of Member Programs and Services.</font></p>\n
LOCATION:Charleston Area Alliance Large Conference Room 1116 Smith Street Charleston\, WV 25301
UID:e.1499.634
SEQUENCE:3
DTSTAMP:20260422T125831Z
URL:https://business.charlestonareaalliance.org/events/details/gain-prosper-succeed-navigate-your-career-path-with-dr-sartarelli-03-27-2013-634
END:VEVENT

END:VCALENDAR
