BEGIN:VCALENDAR
VERSION:2.0
PRODID:-//ChamberMaster//Event Calendar 2.0//EN
METHOD:PUBLISH
X-PUBLISHED-TTL:P3D
REFRESH-INTERVAL:P3D
CALSCALE:GREGORIAN
BEGIN:VEVENT
DTSTART:20160511T120000Z
DTEND:20160511T130000Z
X-MICROSOFT-CDO-ALLDAYEVENT:FALSE
SUMMARY:Gain Prosper Succeed Breakfast with Matt Ballard (Generation Charleston)
DESCRIPTION:Matt Ballard\, President and CEO of the Charleston Area Alliance\, will meet with a small group of Generation Charleston members over breakfast. This event will be limited to the first 15 who RSVP.\n\n\n\nBefore joining the Alliance\, Ballard served as the Executive Director of the Hatfield-McCoy Trails\, a 500-mile multi-use trail system\, operating in nine counties throughout southern West Virginia. Prior to his work at Hatfield-McCoy\, Ballard served for two years as the Special Assistant for Project Management and Policy Analysis to the WV Department of Tax and Revenue's Cabinet Secretary during the Governor Bob Wise administration.\n\n\n\nBallard has an undergraduate degree in nursing from Alderson-Broaddus College and a graduate degree in public administration from West Virginia University. He was also selected in 2000 as one of four Burke Scholars with the West Virginia Legislature and spent nine months working for Senator Majority Leader.   \n\n\n\nGain\, Prosper\, Succeed (GPS) is a breakfast series with selected community leaders and a small number of Generation Charleston members. This small group format allows members to have an intimate discussion with the selected guest. Guests provide tips and advice on leadership and a fresh perspective on timely topics. Generation Charleston members gain insight on skill development as an up-and-coming business professional and build connections with business leaders in the Kanawha Valley.\n\n\n\nFor more information\, visit www.generationcharleston.com.
X-ALT-DESC;FMTTYPE=text/html:Matt Ballard\, President and CEO of the Charleston Area Alliance\, will meet with a small group of Generation Charleston members over breakfast. This event will be limited to the first 15 who RSVP.<br />\n<br />\nBefore joining the Alliance\, Ballard served as the Executive Director of the Hatfield-McCoy Trails\, a 500-mile multi-use trail system\, operating in nine counties throughout southern West Virginia. Prior to his work at Hatfield-McCoy\, Ballard served for two years as the Special Assistant for Project Management and Policy Analysis to the WV Department of Tax and Revenue&#39\;s Cabinet Secretary during the Governor Bob Wise administration.<br />\n<br />\nBallard has an undergraduate degree in nursing from Alderson-Broaddus College and a graduate degree in public administration from West Virginia University. He was also selected in 2000 as one of four Burke Scholars with the West Virginia Legislature and spent nine months working for Senator Majority Leader.&nbsp\;&nbsp\;&nbsp\;<br />\n<br />\nGain\, Prosper\, Succeed (GPS) is a breakfast series&nbsp\;with&nbsp\;selected community leaders and a&nbsp\;small&nbsp\;number of Generation Charleston&nbsp\;members. This small group format&nbsp\;allows&nbsp\;members to have an&nbsp\;intimate discussion with the&nbsp\;selected guest.&nbsp\;Guests provide tips and advice on leadership and a&nbsp\;fresh perspective on timely topics.&nbsp\;Generation Charleston members gain&nbsp\;insight on skill development as an up-and-coming business professional and build connections with&nbsp\;business leaders in the Kanawha Valley.<br />\n<br />\nFor more information\, visit <a href="http://www.generationcharleston.com">www.generationcharleston.com</a>.<br />\n<br />\n&nbsp\;
LOCATION:1116 Smith Street Charleston\, WV 25301
UID:e.1499.1859
SEQUENCE:3
DTSTAMP:20260420T121322Z
URL:https://business.charlestonareaalliance.org/events/details/gain-prosper-succeed-breakfast-with-matt-ballard-generation-charleston-05-11-2016-1859
END:VEVENT

END:VCALENDAR
