BEGIN:VCALENDAR
VERSION:2.0
PRODID:-//ChamberMaster//Event Calendar 2.0//EN
METHOD:PUBLISH
X-PUBLISHED-TTL:P3D
REFRESH-INTERVAL:P3D
CALSCALE:GREGORIAN
BEGIN:VEVENT
DTSTART:20161005T120000Z
DTEND:20161005T130000Z
X-MICROSOFT-CDO-ALLDAYEVENT:FALSE
SUMMARY:Gain Prosper Succeed Breakfast with John Elliot (Generation Charleston)
DESCRIPTION:John Elliot\, President of American Medical Facilities Management\, will meet with a small group of Generation Charleston members over breakfast. This event will be limited to the first 15 who RSVP.\n\nJohn's approach to life has been to find opportunities in any situation and create positive outcomes. John and his wife\, Fonda\, have been providing much-needed\, top-of-the-line health care services to West Virginians since 1982 through American Medical Facilities Management\, LLC. \n\nAMFM is West Virginia operated. John and Fonda have built AMFM into West Virginia's leader in skilled nursing\, rehabilitation and long-term care services. There are 16 AMFM care centers located throughout West Virginia. \n\nAMFM employs more than 1\,400 and provides care for more than 1\,000 patients. \n\n\n\nGain\, Prosper\, Succeed (GPS) is a breakfast series with selected community leaders and a small number of Generation Charleston members. This small group format allows members to have an intimate discussion with the selected guest. \n\n\n\nGuests provide tips and advice on leadership and a fresh perspective on timely topics. Generation Charleston members gain insight on skill development as an up-and-coming business professional and build connections with business leaders in the Kanawha Valley.\n\n\n\nFor more information\, visit www.generationcharleston.com.\n\n\n\nGeneration Charleston is a program of the Charleston Area Alliance.
X-ALT-DESC;FMTTYPE=text/html:<p>John Elliot\, President of American&nbsp\;Medical Facilities Management\, will meet with a small group of Generation Charleston members over breakfast. This event will be limited to the first 15 who RSVP.</p>\n\n<p>John&#39\;s approach to life has been to find opportunities in any situation and create positive outcomes. John&nbsp\;and his wife\, Fonda\, have been providing much-needed\, top-of-the-line health care services to West Virginians since 1982 through American Medical Facilities Management\, LLC.&nbsp\;</p>\n\n<p>AMFM&nbsp\;is West Virginia operated. John and Fonda&nbsp\;have built AMFM&nbsp\;into West Virginia&#39\;s leader in skilled nursing\, rehabilitation and long-term care services. There are 16 AMFM care centers located throughout West Virginia.&nbsp\;</p>\n\n<p>AMFM employs more than 1\,400 and provides care for more than 1\,000 patients.&nbsp\;<br />\n<br />\nGain\, Prosper\, Succeed (GPS) is a breakfast series&nbsp\;with&nbsp\;selected community leaders and a&nbsp\;small&nbsp\;number of Generation Charleston&nbsp\;members. This small group format&nbsp\;allows&nbsp\;members to have an&nbsp\;intimate discussion with the&nbsp\;selected guest.&nbsp\;<br />\n<br />\nGuests provide tips and advice on leadership and a&nbsp\;fresh perspective on timely topics.&nbsp\;Generation Charleston members gain&nbsp\;insight on skill development as an up-and-coming business professional and build connections with&nbsp\;business leaders in the Kanawha Valley.<br />\n<br />\nFor more information\, visit <a href="http://www.generationcharleston.com">www.generationcharleston.com</a>.<br />\n<br />\nGeneration Charleston is a program of the Charleston Area Alliance.&nbsp\;</p>\n
LOCATION:Capitol Conference Center 815 Lee St. E Charleston\, WV 25301
UID:e.1499.1878
SEQUENCE:3
DTSTAMP:20260420T052656Z
URL:https://business.charlestonareaalliance.org/events/details/gain-prosper-succeed-breakfast-with-john-elliot-generation-charleston-1878
END:VEVENT

END:VCALENDAR
