BEGIN:VCALENDAR
VERSION:2.0
PRODID:-//ChamberMaster//Event Calendar 2.0//EN
METHOD:PUBLISH
X-PUBLISHED-TTL:P3D
REFRESH-INTERVAL:P3D
CALSCALE:GREGORIAN
BEGIN:VEVENT
DTSTART:20161102T120000Z
DTEND:20161102T130000Z
X-MICROSOFT-CDO-ALLDAYEVENT:FALSE
SUMMARY:Gain Prosper Succeed Breakfast with Beth Casey (Generation Charleston)
DESCRIPTION:Beth Casey\, Girl Scouts of Black Diamond Council CEO\, will meet with a small group of Generation Charleston members over breakfast. This event will be limited to the first 15 who RSVP.\n\nCasey will discuss her background\, keys to success and the future impact of her efforts. She has worked with non-profits for more than 20 years\, with most of that time serving in a management role. \n\n\n\nHer years with the Girl Scouts organization provides her good perspective on the non-profit world\, but also community needs and opportunities to positively impact the community. \n\n\n\nGain\, Prosper\, Succeed (GPS) is a breakfast series with selected community leaders and a small number of Generation Charleston members. This small group format allows members to have an intimate discussion with the selected guest. \n\n\n\nGuests provide tips and advice on leadership and a fresh perspective on timely topics. Generation Charleston members gain insight on skill development as an up-and-coming business professional and build connections with business leaders in the Kanawha Valley.\n\n\n\nFor more information\, visit www.generationcharleston.com.\n\n\n\nGeneration Charleston is a program of the Charleston Area Alliance.
X-ALT-DESC;FMTTYPE=text/html:<p>Beth Casey\, Girl Scouts of Black Diamond Council CEO\, will meet with a small group of Generation Charleston members over breakfast. This event will be limited to the first 15 who RSVP.</p>\n\n<p>Casey will discuss her background\, keys to success and the future impact of her efforts. She has worked with non-profits for more than 20 years\, with most of that time serving in a management role.&nbsp\;<br />\n<br />\nHer years with the Girl Scouts organization provides her good perspective on the non-profit world\, but also community needs and opportunities to positively impact the community.&nbsp\;<br />\n<br />\nGain\, Prosper\, Succeed (GPS) is a breakfast series&nbsp\;with&nbsp\;selected community leaders and a&nbsp\;small&nbsp\;number of Generation Charleston&nbsp\;members. This small group format&nbsp\;allows&nbsp\;members to have an&nbsp\;intimate discussion with the&nbsp\;selected guest.&nbsp\;<br />\n<br />\nGuests provide tips and advice on leadership and a&nbsp\;fresh perspective on timely topics.&nbsp\;Generation Charleston members gain&nbsp\;insight on skill development as an up-and-coming business professional and build connections with&nbsp\;business leaders in the Kanawha Valley.<br />\n<br />\nFor more information\, visit <a href="http://www.generationcharleston.com">www.generationcharleston.com</a>.<br />\n<br />\nGeneration Charleston is a program of the Charleston Area Alliance.&nbsp\;</p>\n
LOCATION:Girl Scouts Black Diamond Council 321 Virginia St. W. Charleston\, WV 25302
UID:e.1499.1881
SEQUENCE:3
DTSTAMP:20260420T040842Z
URL:https://business.charlestonareaalliance.org/events/details/gain-prosper-succeed-breakfast-with-beth-casey-generation-charleston-1881
END:VEVENT

END:VCALENDAR
