BEGIN:VCALENDAR
VERSION:2.0
PRODID:-//ChamberMaster//Event Calendar 2.0//EN
METHOD:PUBLISH
X-PUBLISHED-TTL:P3D
REFRESH-INTERVAL:P3D
CALSCALE:GREGORIAN
BEGIN:VEVENT
DTSTART:20160406T120000Z
DTEND:20160406T130000Z
X-MICROSOFT-CDO-ALLDAYEVENT:FALSE
SUMMARY:Gain Prosper Succeed Breakfast with Al Najjar (Generation Charleston)
DESCRIPTION:Al Najjar\, President and CEO of the Clay Center for the Arts and Sciences of West Virginia\, will meet with a small group of Generation Charleston members over breakfast. This event will be limited to the first 15 who RSVP.\n\n\n\nNajjar joined the Clay Center in March 2015 after a nation-wide search. He brings nearly three decades of museum experience to the position. Before joining the Clay Center\, Najjar served as President and CEO of the Glazer Children's Museum located in Tampa\, Florida. \n\n\n\nNajjar is also a performing violinist and self-described "science geek." \n\n\n\nGain\, Prosper\, Succeed (GPS) is a breakfast series with selected community leaders and a small number of Generation Charleston members. This small group format allows members to have an intimate discussion with the selected guest. Guests provide tips and advice on leadership and a fresh perspective on timely topics. Generation Charleston members gain insight on skill development as an up-and-coming business professional and build connections with business leaders in the Kanawha Valley.\n\n\n\nFor more information\, visit www.generationcharleston.com.\n\n\n\nGeneration Charleston is presented by Brickstreet Insurance.
X-ALT-DESC;FMTTYPE=text/html:Al Najjar\, President and CEO of the Clay Center for the Arts and Sciences of West Virginia\, will meet with a small group of Generation Charleston members over breakfast. This event will be limited to the first 15 who RSVP.<br />\n<br />\nNajjar&nbsp\;joined the Clay Center in March 2015 after a nation-wide search. He brings nearly three decades of museum experience to the position. Before joining the Clay Center\, Najjar served as President and CEO of the Glazer Children&#39\;s Museum located in Tampa\, Florida.&nbsp\;<br />\n<br />\nNajjar is also a performing violinist and self-described &quot\;science geek.&quot\;&nbsp\;<br />\n<br />\nGain\, Prosper\, Succeed (GPS) is a breakfast series&nbsp\;with&nbsp\;selected community leaders and a&nbsp\;small&nbsp\;number of Generation Charleston&nbsp\;members. This small group format&nbsp\;allows&nbsp\;members to have an&nbsp\;intimate discussion with the&nbsp\;selected guest.&nbsp\;Guests provide tips and advice on leadership and a&nbsp\;fresh perspective on timely topics.&nbsp\;Generation Charleston members gain&nbsp\;insight on skill development as an up-and-coming business professional and build connections with&nbsp\;business leaders in the Kanawha Valley.<br />\n<br />\nFor more information\, visit <a href="http://www.generationcharleston.com">www.generationcharleston.com</a>.<br />\n<br />\nGeneration Charleston is presented by Brickstreet Insurance.
LOCATION:1 Clay Square Charleston\, WV 25301
UID:e.1499.832
SEQUENCE:3
DTSTAMP:20260420T132239Z
URL:https://business.charlestonareaalliance.org/events/details/gain-prosper-succeed-breakfast-with-al-najjar-generation-charleston-04-06-2016-832
END:VEVENT

END:VCALENDAR
