BEGIN:VCALENDAR
VERSION:2.0
PRODID:-//ChamberMaster//Event Calendar 2.0//EN
METHOD:PUBLISH
X-PUBLISHED-TTL:P3D
REFRESH-INTERVAL:P3D
CALSCALE:GREGORIAN
BEGIN:VEVENT
DTSTART:20100224T050000Z
DTEND:20100224T050000Z
X-MICROSOFT-CDO-ALLDAYEVENT:FALSE
SUMMARY:Food for Thought-How to Create a Succession Plan for Your Bu
DESCRIPTION:
X-ALT-DESC;FMTTYPE=text/html:
LOCATION:Charleston Area Alliance
UID:e.1499.330
SEQUENCE:3
DTSTAMP:20260425T214209Z
URL:https://business.charlestonareaalliance.org/events/details/food-for-thought-how-to-create-a-succession-plan-for-your-bu-02-24-2010-330
END:VEVENT

END:VCALENDAR
