BEGIN:VCALENDAR
VERSION:2.0
PRODID:-//ChamberMaster//Event Calendar 2.0//EN
METHOD:PUBLISH
X-PUBLISHED-TTL:P3D
REFRESH-INTERVAL:P3D
CALSCALE:GREGORIAN
BEGIN:VEVENT
DTSTART:20100317T040000Z
DTEND:20100317T040000Z
X-MICROSOFT-CDO-ALLDAYEVENT:FALSE
SUMMARY:Food for Thought-Employing Members National Guard & Reserve
DESCRIPTION:
X-ALT-DESC;FMTTYPE=text/html:
LOCATION:Charleston Area Alliance
UID:e.1499.332
SEQUENCE:3
DTSTAMP:20260425T214030Z
URL:https://business.charlestonareaalliance.org/events/details/food-for-thought-employing-members-national-guard-reserve-03-17-2010-332
END:VEVENT

END:VCALENDAR
