BEGIN:VCALENDAR
VERSION:2.0
PRODID:-//ChamberMaster//Event Calendar 2.0//EN
METHOD:PUBLISH
X-PUBLISHED-TTL:P3D
REFRESH-INTERVAL:P3D
CALSCALE:GREGORIAN
BEGIN:VEVENT
DTSTART:20140905T223000Z
DTEND:20140906T003000Z
X-MICROSOFT-CDO-ALLDAYEVENT:FALSE
SUMMARY:First Friday - September 2014
DESCRIPTION:Generation Charleston's monthly First Friday will be held at Mosa Caf  and Grille at the Holiday Inn & Suites Charleston West on Friday\, Sept. 5 at 5:30 p.m.\n\n \n\nGuests who RSVP in advance will receive a drink ticket at the event.\n\n\n\nJoin us for complimentary hors d?oeuvres\, drink specials and the opportunity to mix and mingle with the area?s young talent.  \n\n\n\nFirst Fridays are always open to the public with no admission fee\, but RSVP is required.\n\n\n\nMix and mingle with Generation Charleston and the rest of city's young talent. First Fridays always draw a crowd.\n\n\n\nGeneration Charleston: Live\, Work\, Play
X-ALT-DESC;FMTTYPE=text/html:<br />\nGeneration Charleston&#39\;s monthly First Friday will be held at Mosa Caf&eacute\; and Grille at the Holiday Inn &amp\; Suites Charleston West on Friday\, Sept. 5 at 5:30 p.m.<br />\n&nbsp\;<br />\n<strong>Guests who RSVP in advance will receive a drink ticket at the event.</strong><br />\n<br />\nJoin us for complimentary hors d?oeuvres\, drink specials and the opportunity to mix and mingle with the area?s young talent. &nbsp\;<br />\n<br />\nFirst Fridays are always open to the public with no admission fee\, but RSVP is required.<br />\n<br />\nMix and mingle with Generation Charleston and the rest of city&#39\;s young talent. First Fridays always draw a crowd.<br />\n<br />\nGeneration Charleston: Live\, Work\, Play
LOCATION:400 2nd Ave SW Charleston\, WV 25303
UID:e.1499.722
SEQUENCE:3
DTSTAMP:20260421T155048Z
URL:https://business.charlestonareaalliance.org/events/details/first-friday-september-2014-09-05-2014-722
END:VEVENT

END:VCALENDAR
