BEGIN:VCALENDAR
VERSION:2.0
PRODID:-//ChamberMaster//Event Calendar 2.0//EN
METHOD:PUBLISH
X-PUBLISHED-TTL:P3D
REFRESH-INTERVAL:P3D
CALSCALE:GREGORIAN
BEGIN:VEVENT
DTSTART:20130906T213000Z
DTEND:20130906T233000Z
X-MICROSOFT-CDO-ALLDAYEVENT:FALSE
SUMMARY:First Friday - September 2013
DESCRIPTION:Generation Charleston\, the Charleston Area Alliance's emerging leaders program\, will host its next First Friday on September 6th.\n\n\n\nThe fun begins at 5:30 p.m. and is free and open to the public. \n\n\n\nGeneration Charleston is a networking and community service/action group designed specifically for young professionals in the area to get to know each other\, get involved and make a difference.\n\n\n\nFirst Fridays offer great networking opportunities for young professionals.\n\n\n\nLet's show everyone why Charleston is such a great place to live\, work and play!
X-ALT-DESC;FMTTYPE=text/html:<span style="font-size: 12pt\;"><span style="font-family: times new roman\, serif\;">Generation Charleston\, the Charleston Area Alliance&rsquo\;s emerging leaders program\, will host its next First Friday on September&nbsp\;6th.<br />\n<br />\nThe fun begins at 5:30 p.m. and is free and open to the public.&nbsp\;<br />\n<br />\nGeneration Charleston is a networking and community service/action group designed specifically for young professionals in the area to get to know each other\, get involved and make a difference.<br />\n<br />\nFirst Fridays offer great networking opportunities for young professionals.<br />\n<br />\nLet&rsquo\;s show everyone why Charleston is such a great place to live\, work and play!&nbsp\;</span></span>
LOCATION:Recovery Sports Grill 600 Kanawha Blvd. East Charleston\, WV 25301
UID:e.1499.526
SEQUENCE:3
DTSTAMP:20260422T050701Z
URL:https://business.charlestonareaalliance.org/events/details/first-friday-september-2013-09-06-2013-526
END:VEVENT

END:VCALENDAR
