BEGIN:VCALENDAR
VERSION:2.0
PRODID:-//ChamberMaster//Event Calendar 2.0//EN
METHOD:PUBLISH
X-PUBLISHED-TTL:P3D
REFRESH-INTERVAL:P3D
CALSCALE:GREGORIAN
BEGIN:VEVENT
DTSTART:20141107T233000Z
DTEND:20141108T013000Z
X-MICROSOFT-CDO-ALLDAYEVENT:FALSE
SUMMARY:First Friday - November 2014
DESCRIPTION:Generation Charleston's monthly First Friday will be held at The Athletic Club Bar & Grill at the Embassy Suites on Friday\, Nov. 7 at 5:30 p.m.\n\n \n\nGuests who bring two canned foods will receive a free drink ticket at the event.\n\n\n\nJoin us for complimentary food\, drink specials and the opportunity to mix and mingle with the area's young talent.  \n\n\n\nFirst Fridays are always open to the public with no admission fee\, but RSVP is required.\n\n\n\nMix and mingle with Generation Charleston and the rest of city's young talent. First Fridays always draw a crowd.\n\n\n\nGeneration Charleston: Live\, Work\, Play
X-ALT-DESC;FMTTYPE=text/html:<br />\nGeneration Charleston&#39\;s monthly First Friday will be held at The Athletic Club Bar &amp\; Grill at the Embassy Suites on Friday\, Nov. 7 at 5:30 p.m.<br />\n&nbsp\;<br />\n<strong>Guests who bring two canned foods will receive a free drink ticket at the event.</strong><br />\n<br />\nJoin us for complimentary food\, drink specials and the opportunity to mix and mingle with the area&#39\;s young talent. &nbsp\;<br />\n<br />\nFirst Fridays are always open to the public with no admission fee\, but RSVP is required.<br />\n<br />\nMix and mingle with Generation Charleston and the rest of city&#39\;s young talent. First Fridays always draw a crowd.<br />\n<br />\nGeneration Charleston: Live\, Work\, Play
LOCATION:Athletic Club Bar and Grill at Embassy Suites Hotel 300 Court Street Charleston\, WV 25301
UID:e.1499.741
SEQUENCE:3
DTSTAMP:20260421T130219Z
URL:https://business.charlestonareaalliance.org/events/details/first-friday-november-2014-11-07-2014-741
END:VEVENT

END:VCALENDAR
