BEGIN:VCALENDAR
VERSION:2.0
PRODID:-//ChamberMaster//Event Calendar 2.0//EN
METHOD:PUBLISH
X-PUBLISHED-TTL:P3D
REFRESH-INTERVAL:P3D
CALSCALE:GREGORIAN
BEGIN:VEVENT
DTSTART:20130503T213000Z
DTEND:20130503T233000Z
X-MICROSOFT-CDO-ALLDAYEVENT:FALSE
SUMMARY:First Friday - May 2013
DESCRIPTION:The Charleston Brew Pub is excited to open its doors to Generation Charleston for a sneak preview into the hot new restaurant and brewery's extensive menu and beer selection. The fun begins May 3rd at 5:30pm with a cash bar where GC pre-registered members can sample the Brew Pub's first offerings on tap and get a complimentary taste of select menu items. \n\n	First Friday presents participants with the opportunity to network\, mix and mingle with the area's young talent\, and yet another reason why Charleston is a great place to Live\, Work and Play!\n\n	Generation Charleston is a networking and community service/action group designed specifically for young professionals in the area to get to know each other\, get involved and make a difference.\n\n	\n\n	RSVP via the registration link at top left. Advance registration is required for entry.\n\n	\n\n	If you work with an Alliance member-business and need assistance locating your password to register\, email Leigh Anne Strickland (Director\, Member Programs & Services).o
X-ALT-DESC;FMTTYPE=text/html:<p>\n	<span style="font-size: 12pt\;"><span style="font-family: times new roman\, serif\;"><span style="font-size: 14px\;"><span style="font-family: arial\;"><span style="font-size: 14px\;"><span style="font-family: arial\;">The Charleston Brew Pub is excited to open its doors to Generation Charleston for a sneak preview into the hot new restaurant and brewery&#39\;s extensive menu and beer selection. The fun begins May&nbsp\;3rd at 5:30pm with a cash bar where GC pre-registered members can sample the Brew Pub&#39\;s first offerings on tap and get a complimentary taste of select menu items. </span></span></span></span></span></span></p>\n<p>\n	<span style="font-size: 12pt\;"><span style="font-family: times new roman\, serif\;"><span style="font-size: 14px\;"><span style="font-family: arial\;">First Friday presents participants with the opportunity to network\, mix and mingle with the area&#39\;s young talent\, and yet another reason why Charleston is a great place to Live\, Work and Play!</span></span></span></span></p>\n<p>\n	<span style="font-size: 12pt\;"><span style="font-family: times new roman\, serif\;"><span style="font-size: 14px\;"><span style="font-family: arial\;">Generation Charleston is a networking and community service/action group designed specifically for young professionals in the area to get to know each other\, get involved and make a difference.<br />\n	<br />\n	<span style="color: rgb(178\, 34\, 34)\;">RSVP via the registration link at top left. Advance registration is required for entry.</span></span></span><br />\n	<br />\n	<span style="font-size: 14px\;"><span style="font-family: arial\;"><span style="color: rgb(0\, 0\, 0)\;">If you work with an Alliance member-business and need assistance locating your </span><span style="color: rgb(178\, 34\, 34)\;">password </span><span style="color: rgb(128\, 0\, 0)\;">to register</span><span style="color: rgb(0\, 0\, 0)\;">\, email <a href="mailto:LStrickland@charlestonareaalliance.org?subject=Password%20Inquiry">Leigh Anne Strickland </a>(Director\, Member Programs &amp\; Services).</span></span></span><span style="font-size: 12pt\;"><span style="font-family: times new roman\, serif\;"><span _fck_bookmark="1" style="display: none\;">o</span><span _fck_bookmark="1" style="display: none\;"> </span></span></span></span></span></p>\n
LOCATION:Charleston Brew Pub 207 Quarrier Street Charleston\, WV 25301
UID:e.1499.522
SEQUENCE:3
DTSTAMP:20260422T113222Z
URL:https://business.charlestonareaalliance.org/events/details/first-friday-may-2013-05-03-2013-522
END:VEVENT

END:VCALENDAR
