BEGIN:VCALENDAR
VERSION:2.0
PRODID:-//ChamberMaster//Event Calendar 2.0//EN
METHOD:PUBLISH
X-PUBLISHED-TTL:P3D
REFRESH-INTERVAL:P3D
CALSCALE:GREGORIAN
BEGIN:VEVENT
DTSTART:20150306T223000Z
DTEND:20150307T003000Z
X-MICROSOFT-CDO-ALLDAYEVENT:FALSE
SUMMARY:First Friday - March 2015
DESCRIPTION:Generation Charleston's monthly First Friday will be held at Bridge Road Bistro at 5:30 p.m. Friday\, March 6.\n\n \n\nGuests who RSVP in advance will receive a drink ticket at the event.\n\n\n\nJoin us for complimentary food\, drink specials and the opportunity to mix and mingle with the area's young talent.  \n\n\n\nFirst Fridays are always open to the public with no admission fee\, but RSVP is required.\n\n\n\nMix and mingle with Generation Charleston and the rest of city's young talent. First Fridays always draw a crowd.\n\n\n\nGeneration Charleston: Live\, Work\, Play
X-ALT-DESC;FMTTYPE=text/html:Generation Charleston&#39\;s monthly First Friday will be held at Bridge Road Bistro at 5:30 p.m.&nbsp\;Friday\, March 6.<br />\n&nbsp\;<br />\n<strong>Guests who RSVP in advance will receive a drink ticket at the event.</strong><br />\n<br />\nJoin us for complimentary food\, drink specials and the opportunity to mix and mingle with the area&#39\;s young talent. &nbsp\;<br />\n<br />\nFirst Fridays are always open to the public with no admission fee\, but RSVP is required.<br />\n<br />\nMix and mingle with Generation Charleston and the rest of city&#39\;s young talent. First Fridays always draw a crowd.<br />\n<br />\nGeneration Charleston: Live\, Work\, Play
LOCATION:Bridge Road Bistro 915 Bridge Road Charleston\, WV 25301
UID:e.1499.752
SEQUENCE:3
DTSTAMP:20260421T065608Z
URL:https://business.charlestonareaalliance.org/events/details/first-friday-march-2015-03-06-2015-752
END:VEVENT

END:VCALENDAR
