BEGIN:VCALENDAR
VERSION:2.0
PRODID:-//ChamberMaster//Event Calendar 2.0//EN
METHOD:PUBLISH
X-PUBLISHED-TTL:P3D
REFRESH-INTERVAL:P3D
CALSCALE:GREGORIAN
BEGIN:VEVENT
DTSTART:20140307T223000Z
DTEND:20140308T003000Z
X-MICROSOFT-CDO-ALLDAYEVENT:FALSE
SUMMARY:First Friday - March 2014
DESCRIPTION:Generation Charleston's monthly First Friday will be held at Adelphia Sports Bar on Friday\, March 7 at 5:30 p.m.\n\n \n\nJoin us for complimentary hors d'oeuvres\, drink specials and the opportunity to mix and mingle with the area's young talent.  \n\n\n\nFirst Fridays are always open to the public with no admission fee\, but RSVP is required.\n\n\n\nMix and mingle with Generation Charleston and the rest of city's young talent. First Fridays always draw a crowd.\n\n\n\nGeneration Charleston: Live\, Work\, Play
X-ALT-DESC;FMTTYPE=text/html:<br />\nGeneration Charleston&rsquo\;s monthly First Friday will be held at Adelphia Sports Bar on Friday\, March 7 at 5:30 p.m.<br />\n&nbsp\;<br />\nJoin us for complimentary hors d&rsquo\;oeuvres\, drink specials and the opportunity to mix and mingle with the area&rsquo\;s young talent. &nbsp\;<br />\n<br />\nFirst Fridays are always open to the public with no admission fee\, but RSVP is required.<br />\n<br />\nMix and mingle with Generation Charleston and the rest of city&#39\;s young talent. First Fridays always draw a crowd.<br />\n<br />\nGeneration Charleston: Live\, Work\, Play
LOCATION:Adelphia Sports Bar 218 Capitol Street
UID:e.1499.690
SEQUENCE:3
DTSTAMP:20260421T213455Z
URL:https://business.charlestonareaalliance.org/events/details/first-friday-march-2014-03-07-2014-690
END:VEVENT

END:VCALENDAR
