BEGIN:VCALENDAR
VERSION:2.0
PRODID:-//ChamberMaster//Event Calendar 2.0//EN
METHOD:PUBLISH
X-PUBLISHED-TTL:P3D
REFRESH-INTERVAL:P3D
CALSCALE:GREGORIAN
BEGIN:VEVENT
DTSTART:20130301T223000Z
DTEND:20130302T003000Z
X-MICROSOFT-CDO-ALLDAYEVENT:FALSE
SUMMARY:First Friday - March 2013
DESCRIPTION:March's First Friday previews the newly renovated Brick Salt Bar and Kitchen at the Marriott downtown!\n\n	The Marriott is excited to open its doors to Generation Charleston March 1st\, 5:30pm with a cash bar and light refreshments. \n\n	\n\n	First Friday presents participants with the opportunity to network\, mix and mingle with the area's young talent\, and yet another reason why Charleston is a great place to Live\, Work and Play!\n\n	Generation Charleston is a networking and community service/action group designed specifically for young professionals in the area to get to know each other\, get involved and make a difference.\n\n	\n\n	RSVP via the registration link at top left. Advance registration is required for entry.\n\n	\n\n	If you work with an Alliance member-business and need assistance locating your password\, email Leigh Anne Strickland (Director\, Member Programs & Services).
X-ALT-DESC;FMTTYPE=text/html:<p>\n	&nbsp\;</p>\n<p>\n	<span style="font-size: 14px\;"><span style="font-family: arial\;">March&#39\;s First Friday previews the newly renovated Brick Salt Bar and Kitchen at the Marriott downtown!</span></span></p>\n<p>\n	<span style="font-size: 14px\;"><span style="font-family: arial\;">The&nbsp\;Marriott is excited to open its doors to Generation Charleston March&nbsp\;1st\, 5:30pm with a cash bar and light refreshments. </span></span></p>\n<p>\n	<br />\n	<span style="font-size: 14px\;"><span style="font-family: arial\;">First Friday presents participants with the opportunity to network\,&nbsp\;mix and mingle with the area&#39\;s young talent\, and yet another reason why Charleston is a great place to Live\, Work and Play!</span></span></p>\n<p>\n	<span style="font-size: 14px\;"><span style="font-family: arial\;">Generation Charleston is a networking and community service/action group designed specifically for young professionals in the area to get to know each other\, get involved and make a difference.</span></span></p>\n<p>\n	<br />\n	<span style="font-size: 14px\;"><span style="font-family: arial\;"><span style="color: rgb(128\, 0\, 0)\;"><strong>RSVP</strong> via the registration link at top left. </span><span style="color: rgb(178\, 34\, 34)\;">Advance registration is required for entry</span><span style="color: rgb(128\, 0\, 0)\;">.</span></span></span></p>\n<p>\n	<br />\n	<span style="font-size: 14px\;"><span style="font-family: arial\;"><span style="color: rgb(0\, 0\, 255)\;">If you work with an Alliance member-business and need assistance locating your </span><span style="color: rgb(178\, 34\, 34)\;">password</span><span style="color: rgb(128\, 0\, 0)\;">\, </span><span style="color: rgb(0\, 0\, 255)\;">email </span><span style="color: rgb(128\, 0\, 0)\;"><a href="mailto:LStrickland@charlestonareaalliance.org?subject=Password%20Inquiry">Leigh Anne Strickland </a></span><span style="color: rgb(0\, 0\, 255)\;">(Director\, Member Programs &amp\; Services).</span></span></span></p>\n
LOCATION:Brick Salt Bar and Kitchen Charleston Marriott at Town Center 200 Lee Street Charleston\, WV 25301
UID:e.1499.520
SEQUENCE:3
DTSTAMP:20260422T125232Z
URL:https://business.charlestonareaalliance.org/events/details/first-friday-march-2013-03-01-2013-520
END:VEVENT

END:VCALENDAR
