BEGIN:VCALENDAR
VERSION:2.0
PRODID:-//ChamberMaster//Event Calendar 2.0//EN
METHOD:PUBLISH
X-PUBLISHED-TTL:P3D
REFRESH-INTERVAL:P3D
CALSCALE:GREGORIAN
BEGIN:VEVENT
DTSTART:20130607T220000Z
DTEND:20130607T233000Z
X-MICROSOFT-CDO-ALLDAYEVENT:FALSE
SUMMARY:First Friday - June 2013
DESCRIPTION:Calling all Young Professionals and Interns!\n\n\n\nJoin Charleston Area Alliance's young talent network\, Generation Charleston\, at Appalachian Power Park for First Friday.\n\n\n\nAppalachian Power Park hosts Generation Charleston on June 7 for a night of baseball and fun as the West Virginia Power takes on the Hagerstown Suns at 7:05pm. Come to the park as early as 6pm to enjoy a picnic and drinks for only $8 admission. Bring your friends\, summer interns and colleagues and network with other young professionals and young talent Living\, Working and Playing in Charleston.\n\n\n\nAdvance registration is REQUIRED for entry at this First Friday event. The $8 admission fee provides access to the complimentary picnic and drinks.\n\n\n\nEnter Power Park near the box office entrance to find the GC check-in table.\n\n\n\nIf you work with an Alliance member-business and need assistance locating your password\, email Leigh Anne Strickland\, Director of Member Programs and Services for immediate assistance.
X-ALT-DESC;FMTTYPE=text/html:Calling all Young Professionals and Interns!<br />\n<br />\nJoin Charleston Area Alliance&#39\;s young talent network\, Generation Charleston\, at Appalachian Power Park for First Friday.<br />\n<br />\nAppalachian Power Park hosts Generation Charleston on June 7 for a night of baseball and fun as the West Virginia Power takes on the Hagerstown Suns at 7:05pm. Come to the park as early as 6pm to enjoy a picnic and drinks for only <span style="color:#b22222\;">$8 </span>admission. Bring your friends\, summer interns and colleagues and network with other young professionals and young talent Living\, Working and Playing in Charleston.<br />\n<br />\n<span style="color:#b22222\;">Advance registration is REQUIRED</span> for entry at this First Friday event. The <span style="color:#b22222\;">$8</span> admission fee provides access to the complimentary picnic and drinks.<br />\n<br />\nEnter Power Park near the box office entrance to find the GC check-in table.<br />\n<br />\nI<strong>f you work with an Alliance member-business and need assistance locating your <span style="color:#b22222\;">password</span>\, email</strong> <a href="mailto:LStrickland@CharlestonAreaAlliance.org?subject=Password%20Inquiry">Leigh Anne Strickland</a>\, <strong>Director of Member Programs and Services for immediate assistance.</strong><br />\n<br />\n<br />\n
LOCATION:Appalachian Power Park Corner of Morris & Smith Street *Use Morris Street entrance near box office
UID:e.1499.644
SEQUENCE:3
DTSTAMP:20260422T085224Z
URL:https://business.charlestonareaalliance.org/events/details/first-friday-june-2013-06-07-2013-644
END:VEVENT

END:VCALENDAR
