BEGIN:VCALENDAR
VERSION:2.0
PRODID:-//ChamberMaster//Event Calendar 2.0//EN
METHOD:PUBLISH
X-PUBLISHED-TTL:P3D
REFRESH-INTERVAL:P3D
CALSCALE:GREGORIAN
BEGIN:VEVENT
DTSTART:20130705T213000Z
DTEND:20130705T233000Z
X-MICROSOFT-CDO-ALLDAYEVENT:FALSE
SUMMARY:First Friday - July 2013
DESCRIPTION:Generation Charleston\, the Charleston Area Alliance's emerging leaders program\, will host its next First Friday on July 5th at Sam's Uptown Cafe on Capitol Street.\n\n\n\nThe fun begins at 5:30 p.m. and is free and open to the public. Advance registration is required via the blue registration box at top left.\n\n\n\nIf you work with an Alliance Member Business and need assistance locating your password\, email Leigh Anne Strickland\, Director - Member Programs & Services for assistance. LStrickland@CharlestonAreaAlliance.org\n\n\n\nGeneration Charleston is a networking and community service/action group designed specifically for young professionals in the area to get to know each other\, get involved and make a difference.\n\n\n\nFirst Fridays offer great networking opportunities for young professionals. Let's show everyone why Charleston is such a great place to live\, work and play!
X-ALT-DESC;FMTTYPE=text/html:<span style="font-size: 14px\;"><span style="font-family: arial\;">Generation Charleston\, the Charleston Area Alliance&rsquo\;s emerging leaders program\, will host its next First Friday on July 5th at Sam&#39\;s Uptown Cafe on Capitol Street.<br />\n<br />\nThe fun begins at 5:30 p.m. and is free and open to the public.&nbsp\;Advance registration is required via the blue registration box at top left.<br />\n<br />\nIf you work with an Alliance Member Business and need assistance locating your password\, email <a href="mailto:LStrickland@CharlestonAreaAlliance.org?subject=Password%20Inquiry">Leigh Anne Strickland</a>\, Director - Member Programs &amp\; Services for assistance. LStrickland@CharlestonAreaAlliance.org<br />\n<br />\nGeneration Charleston is a networking and community service/action group designed specifically for young professionals in the area to get to know each other\, get involved and make a difference.<br />\n<br />\nFirst Fridays offer great networking opportunities for young professionals.&nbsp\;Let&rsquo\;s show everyone why Charleston is such a great place to live\, work and play!&nbsp\;</span></span>
LOCATION:Sam's Uptown Cafe 28 Capitol Street Charleston\, WV 25301
UID:e.1499.524
SEQUENCE:3
DTSTAMP:20260422T073625Z
URL:https://business.charlestonareaalliance.org/events/details/first-friday-july-2013-07-05-2013-524
END:VEVENT

END:VCALENDAR
