BEGIN:VCALENDAR
VERSION:2.0
PRODID:-//ChamberMaster//Event Calendar 2.0//EN
METHOD:PUBLISH
X-PUBLISHED-TTL:P3D
REFRESH-INTERVAL:P3D
CALSCALE:GREGORIAN
BEGIN:VEVENT
DTSTART:20130201T223000Z
DTEND:20130202T003000Z
X-MICROSOFT-CDO-ALLDAYEVENT:FALSE
SUMMARY:First Friday - February 2013
DESCRIPTION:First Friday\, hosted by Youngs Industrial Park\, kicks off February 2013 at Edgewood Country Club! \n\n	 \n\n	Mix and mingle with Generation Charleston members and learn more about what the organization has to offer while exploring one of the city's premier country clubs.  The fun begins February 1st at 5:30pm with complimentary hors d'oeuvres and drink specials.  First Friday is a great networking opportunity and admission is free and open to the public.  Hope to see you there! \n\n	\n\n	In order to provide our venue an advance number of expected guests\, GC requires that you register via the link above. If you work with an Alliance member company (listed in the drop down menu after you click 'register') and need assistance identifying your password\, please email Leigh Anne Strickland for a quick response with these details. \n\n	\n\n	Generation Charleston\, the Charleston Area Alliance's emerging leaders program\, is a networking and community service/action group designed specifically for young professionals in the area to get to know each other\, get involved and make a difference.\nBring your business card to the door. Door prizes are drawn at each First Friday event.
X-ALT-DESC;FMTTYPE=text/html:<p>\n	<span style="font-family: times new roman\;">&nbsp\;</span><br />\n	<span style="font-family: times new roman\;"><span style="font-size: 12pt\;"><span style="font-size: medium\;">First Friday\, hosted by&nbsp\;Youngs Industrial Park\,&nbsp\;kicks off February 2013 at Edgewood Country Club! </span><br />\n	&nbsp\;<br />\n	<span style="font-size: 16px\;">Mix and mingle with Generation Charleston members and learn more about what the organization has to offer while exploring one of the city&rsquo\;s premier country clubs.&nbsp\; The fun begins February 1st at 5:30pm with complimentary hors d&rsquo\;oeuvres and drink specials.&nbsp\; First Friday is a great networking opportunity and admission is free and open to the public.&nbsp\; Hope to see you there!&nbsp\;</span></span></span></p>\n<p>\n	<br />\n	<span style="font-family: times new roman\;"><span style="font-size: 12pt\;"><span style="font-size: 16px\;">In order to provide our venue an advance number of expected guests\, <span style="color: rgb(178\, 34\, 34)\;">GC requires that you register via the link above</span>. If you work with an Alliance member company (listed in the drop down menu after you click &#39\;register&#39\;)&nbsp\;and need assistance identifying your password\, please email <a href="mailto:LStrickland@charlestonareaalliance.org?subject=GC%20Registration%20Question">Leigh Anne Strickland </a>for a quick response with these details. </span></span></span></p>\n<p>\n	<br />\n	<span style="font-size: 12pt\;"><span style="font-family: times new roman\, serif\;">Generation Charleston\, the Charleston Area Alliance&rsquo\;s emerging leaders program\, is a networking and community service/action group designed specifically for young professionals in the area to get to know each other\, get involved and make a difference.</span></span></p>\n<span style="font-size: 12pt\;"><span style="font-family: times new roman\, serif\;">Bring your business card to the door.&nbsp\;Door prizes are drawn at each First Friday event.</span></span><br />\n<p>\n	<span style="font-size: 12pt\;"><span style="font-family: times new roman\, serif\;">&nbsp\;&nbsp\;</span></span><br />\n	<br />\n	&nbsp\;</p>\n
LOCATION:Edgewood Country Club 1600 Edgewood Drive Charleston\, WV 25302
UID:e.1499.519
SEQUENCE:3
DTSTAMP:20260422T140926Z
URL:https://business.charlestonareaalliance.org/events/details/first-friday-february-2013-02-01-2013-519
END:VEVENT

END:VCALENDAR
