BEGIN:VCALENDAR
VERSION:2.0
PRODID:-//ChamberMaster//Event Calendar 2.0//EN
METHOD:PUBLISH
X-PUBLISHED-TTL:P3D
REFRESH-INTERVAL:P3D
CALSCALE:GREGORIAN
BEGIN:VEVENT
DTSTART:20141205T223000Z
DTEND:20141206T003000Z
X-MICROSOFT-CDO-ALLDAYEVENT:FALSE
SUMMARY:First Friday - December 2014
DESCRIPTION:Generation Charleston's monthly First Friday will be held at Sam's Uptown Cafe on Friday\, Dec. 5 at 5:30 p.m.\n\n \n\nGuests who bring an unwrapped toy will receive a free drink ticket at the event.\n\n\n\nJoin us for complimentary food\, drink specials and the opportunity to mix and mingle with the area's young talent.  \n\n\n\nFirst Fridays are always open to the public with no admission fee\, but RSVP is required.\n\n\n\nMix and mingle with Generation Charleston and the rest of city's young talent. First Fridays always draw a crowd.\n\n\n\nGeneration Charleston: Live\, Work\, Play
X-ALT-DESC;FMTTYPE=text/html:<br />\nGeneration Charleston&#39\;s monthly First Friday will be held at Sam&#39\;s Uptown Cafe on Friday\, Dec. 5 at 5:30 p.m.<br />\n&nbsp\;<br />\n<strong>Guests who bring an unwrapped toy will receive a free drink ticket at the event.</strong><br />\n<br />\nJoin us for complimentary food\, drink specials and the opportunity to mix and mingle with the area&#39\;s young talent. &nbsp\;<br />\n<br />\nFirst Fridays are always open to the public with no admission fee\, but RSVP is required.<br />\n<br />\nMix and mingle with Generation Charleston and the rest of city&#39\;s young talent. First Fridays always draw a crowd.<br />\n<br />\nGeneration Charleston: Live\, Work\, Play
LOCATION:Sam's Uptown Cafe 28 Capitol Street
UID:e.1499.742
SEQUENCE:3
DTSTAMP:20260421T104056Z
URL:https://business.charlestonareaalliance.org/events/details/first-friday-december-2014-12-05-2014-742
END:VEVENT

END:VCALENDAR
