BEGIN:VCALENDAR
VERSION:2.0
PRODID:-//ChamberMaster//Event Calendar 2.0//EN
METHOD:PUBLISH
X-PUBLISHED-TTL:P3D
REFRESH-INTERVAL:P3D
CALSCALE:GREGORIAN
BEGIN:VEVENT
DTSTART:20140801T230000Z
DTEND:20140802T003000Z
X-MICROSOFT-CDO-ALLDAYEVENT:FALSE
SUMMARY:First Friday - August 2014 (Power Park)
DESCRIPTION:Generation Charleston will host a special First Friday event at Appalachian Power Park on Friday\, Aug. 1.\n\n\n\nCome to the park early beginning at 6 p.m. to enjoy a picnic\, beer keg and admission for only $8 in advance\, or $10 at the gate. The West Virginia Power will take on the Lexington Legends at 7:05 p.m.\n\n\n\nFirst Friday presents members with the opportunity to mix and mingle with the area's young professionals and is yet another reason why Charleston is a great place to "Live\, Work\, and Play."\n\n\n\nGuests are required to register online and pay the $8 event fee in advance of the event. The fee goes up to $10 at the gate. \n\n\n\nMix and mingle with Generation Charleston and the rest of city's young talent. First Fridays always draw a crowd.\n\n\n\nGeneration Charleston: Live\, Work\, Play!
X-ALT-DESC;FMTTYPE=text/html:<br />\nGeneration Charleston will host a special First Friday event at Appalachian Power Park on Friday\, Aug. 1.<br />\n<br />\nCome to the park early beginning at 6 p.m. to enjoy a picnic\, beer keg and admission for only $8 in advance\, or $10 at the gate. The West Virginia Power will take on the Lexington Legends at 7:05 p.m.<br />\n<br />\nFirst Friday presents members with the opportunity to mix and mingle with the area&rsquo\;s young professionals and is yet another reason why Charleston is a great place to &quot\;Live\, Work\, and Play.&quot\;<br />\n<br />\n<strong>Guests are required to register online and pay the $8 event fee in advance of the event. The fee goes up to $10 at the gate. </strong><br />\n<br />\nMix and mingle with Generation Charleston and the rest of city&#39\;s young talent. First Fridays always draw a crowd.<br />\n<br />\nGeneration Charleston: Live\, Work\, Play!
LOCATION:Appalachian Power Park 601 Morris Street Charleston\, WV 25301
UID:e.1499.717
SEQUENCE:3
DTSTAMP:20260421T153722Z
URL:https://business.charlestonareaalliance.org/events/details/first-friday-august-2014-power-park-08-01-2014-717
END:VEVENT

END:VCALENDAR
