BEGIN:VCALENDAR
VERSION:2.0
PRODID:-//ChamberMaster//Event Calendar 2.0//EN
METHOD:PUBLISH
X-PUBLISHED-TTL:P3D
REFRESH-INTERVAL:P3D
CALSCALE:GREGORIAN
BEGIN:VEVENT
DTSTART:20130802T213000Z
DTEND:20130802T233000Z
X-MICROSOFT-CDO-ALLDAYEVENT:FALSE
SUMMARY:First Friday - August 2013
DESCRIPTION:Generation Charleston\, the Charleston Area Alliance's emerging leaders program\, will host its next First Friday on August 2nd. This event takes place at the Chase Tower Plaza (707 Virginia Street) and is sponsored by Steptoe & Johnson and Nightingale Realty.\n\n\n\nThe fun begins at 5:30 p.m. and is free and open to the public. Advance RSVP required through the blue registration button at top left.\n\n\n\nIf you work with an Alliance member business and need assistance locating your password - contact Deb Coffman at DCoffman@CharlestonAreaAlliance.org.\n\n\n\nGeneration Charleston is a networking and community service/action group designed specifically for young professionals in the area to get to know each other\, get involved and make a difference.\n\n\n\nFirst Fridays offer great networking opportunities for young professionals.\n\n\n\nLet's show everyone why Charleston is such a great place to live\, work and play!
X-ALT-DESC;FMTTYPE=text/html:<span style="font-size: 12pt\;"><span style="font-family: times new roman\, serif\;">Generation Charleston\, the Charleston Area Alliance&rsquo\;s emerging leaders program\, will host its next First Friday on August 2nd. This event takes place at the Chase Tower Plaza (707 Virginia Street) and is sponsored by Steptoe&nbsp\;&amp\; Johnson and Nightingale Realty.<br />\n<br />\nThe fun begins at 5:30 p.m. and is free and open to the public. Advance RSVP required through the blue registration button at top left.<br />\n<br />\nIf you work with an Alliance member business and need assistance locating your password - contact Deb Coffman at <a href="mailto:DCoffman@CharlestonAreaAlliance.org?subject=Password%20Inquiry">DCoffman@CharlestonAreaAlliance.org</a>.<br />\n<br />\nGeneration Charleston is a networking and community service/action group designed specifically for young professionals in the area to get to know each other\, get involved and make a difference.<br />\n<br />\nFirst Fridays offer great networking opportunities for young professionals.<br />\n<br />\nLet&rsquo\;s show everyone why Charleston is such a great place to live\, work and play!&nbsp\;</span></span>
LOCATION:Chase Tower Plaza 707 Virginia Street East Charleston\, WV 25301
UID:e.1499.525
SEQUENCE:3
DTSTAMP:20260422T062254Z
URL:https://business.charlestonareaalliance.org/events/details/first-friday-august-2013-08-02-2013-525
END:VEVENT

END:VCALENDAR
