BEGIN:VCALENDAR
VERSION:2.0
PRODID:-//ChamberMaster//Event Calendar 2.0//EN
METHOD:PUBLISH
X-PUBLISHED-TTL:P3D
REFRESH-INTERVAL:P3D
CALSCALE:GREGORIAN
BEGIN:VEVENT
DTSTART:20140404T213000Z
DTEND:20140404T233000Z
X-MICROSOFT-CDO-ALLDAYEVENT:FALSE
SUMMARY:First Friday - April 2014
DESCRIPTION:Generation Charleston's monthly First Friday will be held at the University of Charleston graduate school at the Equities House on Friday\, April 4 at 5:30 p.m.\n\n \n\nGuests who RSVP in advance will receive a drink ticket at the event (for beer and wine only)\n\n\n\nJoin us for complimentary hors d'oeuvres\, drink specials and the opportunity to mix and mingle with the area's young talent.  \n\n\n\nFirst Fridays are always open to the public with no admission fee\, but RSVP is required.\n\n\n\nMix and mingle with Generation Charleston and the rest of city's young talent. First Fridays always draw a crowd.\n\n\n\nGeneration Charleston: Live\, Work\, Play
X-ALT-DESC;FMTTYPE=text/html:<br />\nGeneration Charleston&rsquo\;s monthly First Friday will be held at the University of Charleston graduate school at the Equities House on Friday\, April 4 at 5:30 p.m.<br />\n&nbsp\;<br />\n<strong>Guests who RSVP in advance will receive a drink ticket at the event (for beer and wine only)</strong><br />\n<br />\nJoin us for complimentary hors d&rsquo\;oeuvres\, drink specials and the opportunity to mix and mingle with the area&rsquo\;s young talent. &nbsp\;<br />\n<br />\nFirst Fridays are always open to the public with no admission fee\, but RSVP is required.<br />\n<br />\nMix and mingle with Generation Charleston and the rest of city&#39\;s young talent. First Fridays always draw a crowd.<br />\n<br />\nGeneration Charleston: Live\, Work\, Play
LOCATION:The Equities House 900 Virginia Street\, East Suite 600 Charleston\, WV 25301
UID:e.1499.698
SEQUENCE:3
DTSTAMP:20260421T202148Z
URL:https://business.charlestonareaalliance.org/events/details/first-friday-april-2014-04-04-2014-698
END:VEVENT

END:VCALENDAR
