BEGIN:VCALENDAR
VERSION:2.0
PRODID:-//ChamberMaster//Event Calendar 2.0//EN
METHOD:PUBLISH
X-PUBLISHED-TTL:P3D
REFRESH-INTERVAL:P3D
CALSCALE:GREGORIAN
BEGIN:VEVENT
DTSTART:20130405T213000Z
DTEND:20130405T233000Z
X-MICROSOFT-CDO-ALLDAYEVENT:FALSE
SUMMARY:First Friday - April 2013
DESCRIPTION:April First Friday has had a venue change due to a delayed opening schedule at the new Charleston Brew Pub. Catch the Brew Pub Preview next month at our May First Friday event!\n\n	New location: Adelphia Sports Bar and Grill.\n\n	\n\n	Don't miss this opportunity to win a kayak from Asseff Insurance.\n\n	\n\n	First Friday presents participants with the opportunity to network\, mix and mingle with the area's young talent\, and yet another reason why Charleston is a great place to Live\, Work and Play!\n\n	Generation Charleston is the Charleston Area Alliance's networking and community service/action group designed specifically for young professionals in the area to get to know each other\, get involved and make a difference.\n\n	\n\n	RSVP via the registration link at top left. Advance registration is required for entry.\n\n	\n\n	If you work with an Alliance member-business and need assistance locating your password to register\, email Leigh Anne Strickland (Director\, Member Programs & Services).o
X-ALT-DESC;FMTTYPE=text/html:<p>\n	<span style="font-size: 14px\;"><span style="font-family: arial\;">April First Friday has had a venue change due to a delayed opening schedule at the&nbsp\;new Charleston Brew Pub. Catch the Brew Pub Preview next month at our May First Friday event!</span></span></p>\n<p>\n	<span style="color: rgb(178\, 34\, 34)\;"><span style="font-size: 14px\;"><span style="font-family: arial\;"><span style="font-size: 14px\;"><span style="font-family: arial\;">New location: Adelphia Sports Bar and Grill.</span></span></span></span></span></p>\n<p>\n	<br />\n	<span style="font-size: 14px\;"><span style="font-family: arial\;">Don&#39\;t miss this opportunity to win a kayak from Asseff Insurance.<br />\n	<br />\n	First Friday presents participants with the opportunity to network\, mix and mingle with the area&#39\;s young talent\, and yet another reason why Charleston is a great place to Live\, Work and Play!</span></span></p>\n<p>\n	<span style="font-size: 14px\;"><span style="font-family: arial\;">Generation Charleston is&nbsp\;the Charleston Area Alliance&#39\;s&nbsp\;networking and community service/action group designed specifically for young professionals in the area to get to know each other\, get involved and make a difference.<br />\n	<br />\n	<span style="color: rgb(178\, 34\, 34)\;">RSVP via the registration link at top left. Advance registration is required for entry.</span></span></span></p>\n<p>\n	<br />\n	<span style="font-size: 14px\;"><span style="font-family: arial\;"><span style="color: rgb(0\, 0\, 0)\;">If you work with an Alliance member-business and need assistance&nbsp\;locating your </span><span style="color: rgb(178\, 34\, 34)\;">password </span><span style="color: rgb(128\, 0\, 0)\;">to register</span><span style="color: rgb(0\, 0\, 0)\;">\, email <a href="mailto:LStrickland@charlestonareaalliance.org?subject=Password%20Inquiry">Leigh Anne Strickland </a>(Director\, Member Programs &amp\; Services).</span></span></span><span style="font-size: 12pt\;"><span style="font-family: times new roman\, serif\;"><span _fck_bookmark="1" style="display: none\;">o</span><span _fck_bookmark="1" style="display: none\;">&nbsp\;</span></span></span></p>\n<br />\n<br />\n
LOCATION:Downtown Charleston Adelphia Sports Bar & Grill Charleston\, WV 25301
UID:e.1499.521
SEQUENCE:3
DTSTAMP:20260422T113532Z
URL:https://business.charlestonareaalliance.org/events/details/first-friday-april-2013-04-05-2013-521
END:VEVENT

END:VCALENDAR
