BEGIN:VCALENDAR
VERSION:2.0
PRODID:-//ChamberMaster//Event Calendar 2.0//EN
METHOD:PUBLISH
X-PUBLISHED-TTL:P3D
REFRESH-INTERVAL:P3D
CALSCALE:GREGORIAN
BEGIN:VEVENT
DTSTART:20170724T130000Z
DTEND:20170724T190000Z
X-MICROSOFT-CDO-ALLDAYEVENT:FALSE
SUMMARY:Fifth Third Bank Financial Empowerment Mobile
DESCRIPTION:The Fifth Third Bank Financial Empowerment Mobile is rolling into Charleston Monday\, July 24 to provide free financial and mortgage counseling and free credit reports. \n\n\n\nThe Financial Empowerment Mobile\, also known as an eBus\, is a 40-foot long transit bus that has been retrofitted and turned into a mobile financial classroom. Powered by satellite technology\, the eBus is equipped with Internet-accessible workstations and staffed by Fifth Third professionals. \n\n\n\nFifth Third has teamed up with Alliance Credit Counseling to provide the credit reports and the Charleston Area Alliance to host the bus at its office\, located at 1116 Smith St. in Charleston.\n\n\n\nGet on board the Fifth Third eBus to:\n\n	View your credit report and credit score\n	Receive money management tips and budgeting help\n	Get information on affordable home loans and refinancing\n	Learn how to prevent foreclosure on your home\n	Open a checking or savings account\, or apply for a home mortgage\, auto loan or credit card\n	One-on-one evaluation of your personal finances\n	Speak with credit counselors from non-profit agencies\n	Learn about identity theft prevention tactics\n\nThe Fifth Third eBus helps strengthen communities by providing convenient access to financial services and financial education. Providing access to financial services outside of Fifth Third's traditional offices makes it not only convenient\, but also less intimidating for community members.\n\n\n\nFifth Third will also host a Lunch & Learn at noon Monday\, July 24 on Personal Finance and Small Business Lending at the Charleston Area Alliance. Click here to learn more or register for the free Lunch & Learn event.\n\n\n\nThe Fifth Third Financial Empowerment Mobile is a Fifth Third Bank L.I.F.E. (Lives Improved through Financial Empowerment ) program\, which strives to reach consumers at every age and stage of life through foundational financial education in partnership with local community organizations.
X-ALT-DESC;FMTTYPE=text/html:The Fifth Third Bank Financial Empowerment Mobile is rolling into Charleston Monday\, July 24 to provide free financial and mortgage counseling and free credit reports.&nbsp\;<br />\n<br />\nThe Financial Empowerment Mobile\, also known as an eBus\, is a 40-foot long transit bus that has been retrofitted and turned into a mobile financial classroom. Powered by satellite technology\, the eBus&nbsp\;is equipped with Internet-accessible workstations and staffed by Fifth Third professionals.&nbsp\;<br />\n<br />\nFifth Third has teamed up with Alliance Credit Counseling to provide the credit reports and the Charleston Area Alliance to host the bus at its office\, located at 1116 Smith St. in Charleston.<br />\n<br />\nGet on board the Fifth Third eBus&nbsp\;to:\n<ul>\n	<li>View your credit report and credit score</li>\n	<li>Receive money management tips and budgeting help</li>\n	<li>Get information on affordable home loans and refinancing</li>\n	<li>Learn how to prevent foreclosure on your home</li>\n	<li>Open a checking or savings account\, or apply for a home mortgage\, auto loan or credit card</li>\n	<li>One-on-one evaluation of your personal finances</li>\n	<li>Speak with credit counselors from non-profit agencies</li>\n	<li>Learn about identity theft prevention tactics</li>\n</ul>\nThe Fifth Third eBus helps strengthen communities by providing convenient access to financial services and financial education. Providing access to financial services outside of Fifth Third&#39\;s traditional offices makes it not only convenient\, but also less intimidating for community members.<br />\n<br />\nFifth Third will also host a&nbsp\;Lunch &amp\; Learn at noon Monday\, July 24 on Personal Finance and Small Business Lending at the Charleston Area Alliance. <a href="http://charlestonareaalliance.org/events/details/lunch-learn-personal-finance-and-small-business-lending-1951" target="_blank">Click here</a> to learn more or register for the free Lunch &amp\; Learn event.<br />\n<br />\nThe Fifth Third Financial Empowerment Mobile&nbsp\;is a Fifth Third Bank&nbsp\;L.I.F.E.&nbsp\;(Lives Improved through Financial Empowerment&reg\;) program\, which strives to reach consumers at every age and stage of life through foundational financial education in partnership with local community organizations.
LOCATION:Charleston Area Alliance Parking Lot 1116 Smith Street Charleston\, WV 25301
UID:e.1499.1953
SEQUENCE:3
DTSTAMP:20260419T190640Z
URL:https://business.charlestonareaalliance.org/events/details/fifth-third-bank-financial-empowerment-mobile-1953
END:VEVENT

END:VCALENDAR
