BEGIN:VCALENDAR
VERSION:2.0
PRODID:-//ChamberMaster//Event Calendar 2.0//EN
METHOD:PUBLISH
X-PUBLISHED-TTL:P3D
REFRESH-INTERVAL:P3D
CALSCALE:GREGORIAN
BEGIN:VEVENT
DTSTART:20151128T190000Z
DTEND:20151128T220000Z
X-MICROSOFT-CDO-ALLDAYEVENT:FALSE
SUMMARY:Fashion's Day Out - Small Business Saturday (Downtown Charleston)
DESCRIPTION:Join Downtown Charleston clothing retailers for Fashion's Day Out: Holiday Preview at 2 p.m. on Small Business Saturday\, Nov. 28. The urban fashion show will be on Hale Street\, between Virginia and Quarrier Streets in Downtown Charleston.\n\n\n\nParticipating retailers include: Heidi Dylan\, House of Luxe\, Ivor's Trunk\, Morgan Rhea\, The Initialed Life\, The Boutique by B.Belle Events\, Tony the Tailor and Virginia Lee. This is a free event.\n\n\n\nWCHS-TV Anchor Kallie Cart and Electric 102.7 Morning Show Host Morgan Robinson will host the event\, with music provided by Bravo Live DJ.\n\n\n\nStick around after the fashion show for retailer pop-up shops showcasing holiday gift ideas. Mrs. Jessica Claus will also be at Fashion's Day Out for pictures and to make reindeer treats with the little ones.\n\n\n\nFashion's Day Out is coordinated by the Charleston Area Alliance.
X-ALT-DESC;FMTTYPE=text/html:<div class="_1w2q"><span class="fsl">Join Downtown Charleston clothing retailers for Fashion&#39\;s Day Out: Holiday Preview at 2 p.m. on Small Business Saturday\, Nov. 28. The urban fashion show will be on Hale Street\, between Virginia and Quarrier Streets in Downtown Charleston.<br />\n<br />\nParticipating retailers include: Heidi&nbsp\;Dylan\, House of&nbsp\;Luxe\, Ivor&#39\;s Trunk\, Morgan Rhea\, The Initialed Life\, The Boutique by B.Belle Events\, Tony the Tailor and Virginia&nbsp\;Lee. This is a free event.<br />\n<br />\nWCHS-TV Anchor Kallie Cart&nbsp\;and Electric 102.7 Morning Show Host Morgan Robinson will host the event\, with music provided by Bravo Live DJ.<br />\n<br />\nStick around after the fashion show for retailer pop-up shops showcasing holiday gift ideas. Mrs. Jessica Claus will also be at Fashion&#39\;s Day Out for pictures and to make reindeer treats with the little ones.<br />\n<br />\nFashion&#39\;s Day Out is coordinated by the Charleston Area Alliance. </span></div>\n
LOCATION:Hale Street\, between Virginia and Quarrier Streets
UID:e.1499.817
SEQUENCE:3
DTSTAMP:20260420T214018Z
URL:https://business.charlestonareaalliance.org/events/details/fashion-s-day-out-small-business-saturday-downtown-charleston-11-28-2015-817
END:VEVENT

END:VCALENDAR
