BEGIN:VCALENDAR
VERSION:2.0
PRODID:-//ChamberMaster//Event Calendar 2.0//EN
METHOD:PUBLISH
X-PUBLISHED-TTL:P3D
REFRESH-INTERVAL:P3D
CALSCALE:GREGORIAN
BEGIN:VEVENT
DTSTART:20130620T153000Z
DTEND:20130620T171500Z
X-MICROSOFT-CDO-ALLDAYEVENT:FALSE
SUMMARY:ELEVATIONS: Women with Energy 2013
DESCRIPTION:Registration is now open for the third annual "Women with Energy" luncheon\, the region's premier forum on energy policy\, economics and employment opportunities for women executives. The event will be held Thursday\, June 20\, at the Charleston Marriott Town Center Ballroom.  \n\n	\n\n	Elevations is presented by the Charleston Area Alliance and Title Sponsor DOW. \n\n	\n\n	Sharon O. Flanery\, a petroleum engineer and attorney who leads the Steptoe & Johnson Energy Team\, will moderate the third annual "Women with Energy\," a roundtable discussion with women business executives\, lawyers\, engineers and other professionals from the natural gas\, coal and renewable energy sectors.\n\n	\n\n	The panel line-up includes:\n\n	* Mary Shaffer Gill\, Vice President ARiES Energy LLC\, a renewable energy contractor\n\n	* Carrie Hightman\, Executive Vice President and Chief Legal Officer\, Columbia Pipeline Group\n\n	* Miranda Jones\, Vice President ESR\, Crestwood Midstream Partners\, Dallas\n\n	* Jeanne Sherry\, Director of Transmission Reliability Compliance\, American Electric Power\n\n	* Joanne Swogger\, CNX Gas - Consol Energy\, Inc.\n\n	\n\n	The event begins at 11:30 a.m. with informal networking (optional)\, followed by a luncheon and program at noon. An invitation-only VIP reception for sponsors and dignitaries is scheduled for 11 a.m.\n\n	\n\n	Get Registered!\n\n	Sponsorship registrations and individual tickets can be purchased through the Alliance website. Individual Tickets are $45 for Alliance members/$55 future members through June 14. Prices increase to $55 Alliance members/$66 future members after that date. Click the blue 'register now' button at top left to purchase individual tickets.\n\n	\n\n	Sponsorships\, which include admission to a VIP pre-event\, Meet & Greet with speakers and state leaders along with other benefits\, start at $750. Click here for sponsorship package details\, benefits and purchase options.  \n\n	\n\n	If you work with an Alliance member-business and need assistance locating your password\, email Leigh Anne Strickland\, Director of Member Programs and Services.\n\n	\n\n	The mission of the 1\,700-member Elevations Professional Women's Network is to "enrich\, empower and elevate women to achieve success." \n\n	\n\n	Through luncheons and other events featuring high-profile speakers\,\n\n	Elevations provides an affirmative network that connects professional women with the information\, resources and contacts that helps them\, their businesses and their communities succeed.  \n\n	\n\n	\n\n	* The Alliance cannot issue cancelation refunds within 48 hours of the event.
X-ALT-DESC;FMTTYPE=text/html:<div style="color: gray\;">\n	<span style="font-size: 14px\;"><span style="font-family: tahoma\;"><span style="color: rgb(0\, 0\, 0)\;">Registration is now open for the third annual &ldquo\;Women with Energy&rdquo\; luncheon\, the region&rsquo\;s premier forum on energy policy\, economics and employment opportunities for women executives. The event will be held Thursday\, June 20\, at the Charleston Marriott Town Center Ballroom.&nbsp\;&nbsp\;<br />\n	<br />\n	Elevations is presented by the Charleston Area Alliance and Title Sponsor DOW.&nbsp\;<br />\n	<br />\n	Sharon O. Flanery\, a petroleum engineer and attorney who leads the Steptoe &amp\; Johnson Energy Team\, will moderate&nbsp\;the third annual&nbsp\;&ldquo\;Women with Energy\,&rdquo\; a roundtable discussion with&nbsp\;women business executives\, lawyers\, engineers and other professionals from the natural gas\, coal and renewable energy sectors.<br />\n	<br />\n	The panel line-up includes:<br />\n	* Mary Shaffer Gill\, Vice President ARiES Energy LLC\, a renewable energy contractor<br />\n	* Carrie Hightman\, Executive Vice President and Chief Legal Officer\, Columbia Pipeline Group<br />\n	* Miranda Jones\, Vice President ESR\, Crestwood Midstream Partners\, Dallas<br />\n	* Jeanne Sherry\, Director of Transmission Reliability Compliance\, American Electric Power<br />\n	* Joanne Swogger\, CNX Gas - Consol Energy\, Inc.</span></span></span><br />\n	<br />\n	<span style="font-size: 14px\;"><span style="font-family: tahoma\;"><span style="color: rgb(0\, 0\, 0)\;">The event begins at 11:30 a.m. with informal networking (optional)\, followed by a luncheon and program at noon. An invitation-only VIP reception for sponsors and dignitaries is scheduled for 11 a.m.<br />\n	<br />\n	<strong>Get Registered!</strong><br />\n	Sponsorship registrations and individual tickets can be purchased through the Alliance website. Individual Tickets&nbsp\;are $45 for Alliance members/$55 future members through June 14. Prices increase to $55 Alliance members/$66 future members after that date.&nbsp\;Click the blue &#39\;register now&#39\; button at top left to purchase individual&nbsp\;tickets.<br />\n	<br />\n	Sponsorships\, which include admission to a VIP pre-event\, Meet &amp\; Greet with speakers and state leaders along with other benefits\, start at $750.&nbsp\;<a href="http://charlestonareaalliance.chambermaster.com/events/details/elevations-women-with-energy-2013-sponsor-556">Click here for sponsorship package details\, benefits and purchase options</a>.&nbsp\;</span>&nbsp\;<br />\n	<br />\n	<span style="color: rgb(0\, 0\, 0)\;">If you work with an Alliance member-business and need assistance locating your </span><span style="color: rgb(178\, 34\, 34)\;">password</span><span style="color: rgb(0\, 0\, 0)\;">\, email <a href="mailto:LStrickland@charlestonareaalliance.org?subject=Password%20Inquiry">Leigh Anne Strickland</a>\, Director of Member Programs and Services.</span><br />\n	<br />\n	<span style="color: rgb(0\, 0\, 0)\;">The mission of the 1\,700-member Elevations Professional Women&rsquo\;s Network is to &ldquo\;enrich\, empower and elevate women to achieve success.&rdquo\;&nbsp\;<br />\n	<br />\n	Through luncheons and other events featuring high-profile speakers\,<br />\n	Elevations provides an affirmative network that connects professional women with the information\, resources and contacts that helps them\, their businesses and their communities succeed.&nbsp\; </span><br />\n	<br />\n	<br />\n	<span style="font-size: 12px\;"><em><span style="color: rgb(178\, 34\, 34)\;">* The Alliance cannot issue cancelation refunds within 48 hours of the event.&nbsp\;&nbsp\;</span></em></span></span></span><br />\n	<br />\n	&nbsp\;</div>\n
LOCATION:Marriott Town Center Ballroom 200 Lee Street Charleston\, WV 25301
UID:e.1499.643
SEQUENCE:3
DTSTAMP:20260422T085330Z
URL:https://business.charlestonareaalliance.org/events/details/elevations-women-with-energy-2013-06-20-2013-643
END:VEVENT

END:VCALENDAR
