BEGIN:VCALENDAR
VERSION:2.0
PRODID:-//ChamberMaster//Event Calendar 2.0//EN
METHOD:PUBLISH
X-PUBLISHED-TTL:P3D
REFRESH-INTERVAL:P3D
CALSCALE:GREGORIAN
BEGIN:VEVENT
DTSTART:20140321T164500Z
DTEND:20140321T180000Z
X-MICROSOFT-CDO-ALLDAYEVENT:FALSE
SUMMARY:Elevations: Toyota President Millie Marshall - March 2014
DESCRIPTION:Elevations Professional Women's Network Luncheon\n\nFriday\, March 21\n\n11:45 a.m.- 1:00 p.m.\n\nEdgewood Country Club\n\n\n\nMillie Marshall\, president of Toyota Motor Manufacturing West Virginia\, Inc. will discuss what drives the manufacturing and auto industry at the next Elevations luncheon on Friday\, March 21 at Edgewood Country Club.\n\n\n\nThe event opens at 11:45 a.m. with informal networking followed by seated luncheon and address by Marshall at noon.\n\n\n\nReservations for this special event are $30 Alliance members/$40 future members through this Friday\, March 14.  \n\n\n\nPrices increase to $50 Alliance members/$60 future members after that date.\n\n \n\nSponsor tables of eight are available for $500 future members. Please contact JoEllen Zacks for more information.\n\n\n\nMarshall joined Toyota in 1991 at the company's vehicle and engine assembly plant in Georgetown\, Ky. In 2003\, she was promoted to general manager of administration at Toyota Motor Manufacturing\, Alabama\, Inc.\, in Huntsville. She oversaw human resources\, corporate affairs and accounting and finance.\n\n\n\nShe was appointed senior vice president of manufacturing at Toyota's West Virginia plant in 2012. Prior to that role\, she served as vice president of human resources from 2009-12 at Toyota Motor Engineering & Manufacturing North America\, Inc. located in Erlanger\, Ky.\n\n\n\nMarshall was named president in December 2013.\n\n\n\nThe Elevations Professional Women's Network is presented by the Charleston Area Alliance and Title Sponsor DOW.\n\n\n\nThe Alliance will be able to invoice only for groups of 10 or more. Contact Deb Coffman at DCoffman@CharlestonAreaAlliance.org for more information. The Alliance cannot issue cancelation refunds within 48 hours of the event. Thank you.
X-ALT-DESC;FMTTYPE=text/html:<p><br />\n<strong>Elevations Professional Women&#39\;s Network Luncheon</strong><br />\nFriday\, March 21<br />\n11:45 a.m.- 1:00 p.m.<br />\nEdgewood Country Club<br />\n<br />\nMillie Marshall\, president of Toyota Motor Manufacturing West Virginia\, Inc. will discuss what drives the manufacturing and auto industry at the next Elevations luncheon on Friday\, March 21 at Edgewood Country Club.<br />\n<br />\nThe event opens at 11:45 a.m. with informal networking followed by seated luncheon and address by Marshall at noon.<br />\n<br />\nReservations for this special event are $30 Alliance members/$40 future members through this Friday\, March 14. &nbsp\;<br />\n<br />\nPrices increase to $50 Alliance members/$60 future members after that date.<br />\n&nbsp\;<br />\nSponsor tables of eight are available for $500 future members. Please contact JoEllen Zacks for more information.<br />\n<br />\nMarshall joined Toyota in 1991 at the company&rsquo\;s vehicle and engine assembly plant in Georgetown\, Ky. In 2003\, she was promoted to general manager of administration at Toyota Motor Manufacturing\, Alabama\, Inc.\, in Huntsville. She oversaw human resources\, corporate affairs and accounting and finance.<br />\n<br />\nShe was appointed senior vice president of manufacturing at Toyota&#39\;s West Virginia plant in 2012. Prior to that role\, she served as vice president of human resources from 2009-12 at Toyota Motor Engineering &amp\; Manufacturing North America\, Inc. located in Erlanger\, Ky.<br />\n<br />\nMarshall was named president in December 2013.<br />\n<br />\nThe Elevations Professional Women&rsquo\;s Network is presented by the Charleston Area Alliance and Title Sponsor DOW.<br />\n<br />\n<span style="color: rgb(255\, 0\, 0)\;">The Alliance will be able to invoice only for groups of 10 or more. Contact Deb Coffman at DCoffman@CharlestonAreaAlliance.org for more information. The Alliance cannot issue cancelation refunds within 48 hours of the event. Thank you.&nbsp\;&nbsp\;&nbsp\;&nbsp\;&nbsp\;</span></p>\n\n<p><br />\n<br />\n<br />\n<br />\n<br />\n<br />\n<br />\n&nbsp\;</p>\n
LOCATION:Edgewood Country Club 1600 Edgewood Drive Charleston\, WV 25302
UID:e.1499.693
SEQUENCE:3
DTSTAMP:20260421T215213Z
URL:https://business.charlestonareaalliance.org/events/details/elevations-toyota-president-millie-marshall-march-2014-03-21-2014-693
END:VEVENT

END:VCALENDAR
