BEGIN:VCALENDAR
VERSION:2.0
PRODID:-//ChamberMaster//Event Calendar 2.0//EN
METHOD:PUBLISH
X-PUBLISHED-TTL:P3D
REFRESH-INTERVAL:P3D
CALSCALE:GREGORIAN
BEGIN:VEVENT
DTSTART:20161006T153000Z
DTEND:20161006T170000Z
X-MICROSOFT-CDO-ALLDAYEVENT:FALSE
SUMMARY:Elevations Professional Women's Network Luncheon - October 2016
DESCRIPTION:Elevations Professional Women's Network Luncheon: Women in STEM Close the Gender Gap in Business.\n\nThursday\, October 6\n\n11:30 am to 1:00 pm\n\nEmbassy Suites \n\n\n\nThe Charleston Area Alliance presents an Elevations Professional Women's Network Luncheon with Anita Riddle of ExxonMobil. \n\nThe event opens at 11:30 am with informal networking\, followed by a seated luncheon\, keynote and Q&A session. Elevations' events are the perfect opportunity to network with the region's top female leaders in a variety of industries and forge meaningful partnerships to move your organization and our community forward. \n\n\n\nAnita Riddle is a true champion of the power of human capital. \n\n\n\n"Everyone can do something amazing. It's a leader's job to not get in their way\," Riddle\, an ExxonMobil veteran\, said. \n\n\n\nRiddle's background in engineering and business\, along with a tenacious work ethic\, empowered her to climb the ranks at Exxon\, where she serves as Senior Advisor Procurement Manager\, a position she has held since March 2009.\n\n\n\nIn her current role\, she monitors and helps facilitate: oil refining process engineering and shift leadership\, environmental management\, procurement\, manufacturing maintenance\, data mining and analytics\, market intelligence and analysis and more.\n\n \n\nThe National Youth Science Foundation will make a special presentation during this Elevations luncheon. \n\n\n\nReservations for this special event are $35 Alliance members/$45 future members until October 4 at 11:30 am. Prices increase to $45 Alliance members/$55 future members after that date.\n\n\n\nThe Elevations Professional Women's Network is presented by the Charleston Area Alliance with sponsorship support from DOW Chemical Company.\n\n\n\nInvoicing available for groups of 10 or more.  No refunds issued within 48 hours of the event.
X-ALT-DESC;FMTTYPE=text/html:<p><strong>Elevations Professional Women&#39\;s Network Luncheon: Women in STEM Close the Gender Gap in Business.</strong><br />\nThursday\, October 6<br />\n11:30 am&nbsp\;to 1:00&nbsp\;pm<br />\nEmbassy Suites&nbsp\;<br />\n<br />\nThe Charleston Area Alliance presents an&nbsp\;Elevations Professional Women&#39\;s Network Luncheon with Anita Riddle of ExxonMobil.&nbsp\;</p>\n\n<p>The event opens at 11:30 am&nbsp\;with informal networking\,&nbsp\;followed by a seated luncheon\, keynote&nbsp\;and Q&amp\;A session. Elevations&#39\; events are the perfect opportunity to network with the region&#39\;s top&nbsp\;female leaders in a variety of industries and forge meaningful partnerships to move your organization and our community forward.&nbsp\;<br />\n<br />\nAnita Riddle is a true champion of the power of human capital.&nbsp\;<br />\n<br />\n&quot\;Everyone can do something amazing. It&#39\;s a leader&#39\;s job to not get in their way\,&quot\; Riddle\, an ExxonMobil veteran\, said.&nbsp\;<br />\n<br />\nRiddle&#39\;s background in engineering and business\, along with a tenacious work ethic\, empowered her to climb the ranks at Exxon\, where she serves as Senior Advisor Procurement Manager\, a position she has held since March 2009.<br />\n<br />\nIn her current role\, she monitors and helps facilitate: oil refining process engineering and shift leadership\, environmental management\, procurement\, manufacturing maintenance\, data mining and analytics\, market intelligence and analysis and more.<br />\n&nbsp\;<br />\nThe National Youth Science Foundation will make a special presentation during this Elevations luncheon.&nbsp\;<br />\n<br />\nReservations for this special event are $35&nbsp\;Alliance members/$45&nbsp\;future members until October 4&nbsp\;at 11:30 am. Prices increase to $45&nbsp\;Alliance members/$55&nbsp\;future members after that date.<br />\n<br />\nThe Elevations Professional Women&#39\;s Network is presented by the Charleston Area Alliance&nbsp\;with sponsorship support from&nbsp\;DOW Chemical Company.<br />\n<br />\nInvoicing available for groups of 10 or more.&nbsp\; No refunds issued within 48 hours of the event.&nbsp\;</p>\n
LOCATION:Embassy Suites 300 Court Street Charleston\, WV 25301
UID:e.1499.1874
SEQUENCE:3
DTSTAMP:20260420T052538Z
URL:https://business.charlestonareaalliance.org/events/details/elevations-professional-women-s-network-luncheon-october-2016-1874
END:VEVENT

END:VCALENDAR
