BEGIN:VCALENDAR
VERSION:2.0
PRODID:-//ChamberMaster//Event Calendar 2.0//EN
METHOD:PUBLISH
X-PUBLISHED-TTL:P3D
REFRESH-INTERVAL:P3D
CALSCALE:GREGORIAN
BEGIN:VEVENT
DTSTART:20151029T153000Z
DTEND:20151029T171500Z
X-MICROSOFT-CDO-ALLDAYEVENT:FALSE
SUMMARY:Elevations Professional Women's Network Luncheon - October 2015
DESCRIPTION:Elevations Professional Women's Network Luncheon: Women in Power!\n\nThursday\, October 29\n\n11:30 a.m. to 1:15 p.m.\n\nUniversity of Charleston \n\n\n\nThe Charleston Area Alliance presents the Elevations Professional Women's Network Luncheon: Women in Power\, a conversation about the changing energy landscape in America and how coal country can capitalize and lead in alternative energy\, too.  \n\nThe event opens at 11:30 a.m. with informal networking\, followed by a seated luncheon and a panel discussion with women in alternative energy at noon.\n\nThe panelists include:\n\n\n	Lucille Olszewski\, founding member of Ensemble Wind\, a wind service company offering consulting services that include bankable resource assessment\, wind farm optimization\, data quality control\, due diligence and project consulting. \n	Autumn Proudlove\, Senior Policy Analyst at the North Carolina Clean Technology Center\; \n	Ali Rodrian\, a wildlife biologist for Tetra Tech\; and \n	Christine Risch\, Director of Resource & Energy Economics for the Center for Business and Economic Research at Marshall University. \n\n\nReservations for this special event are $50 Alliance members/$60 future members until October 27 at 11:30 a.m. Prices increase to $60 Alliance members/$70 future members after that date.\n\n\n\nThe Elevations Professional Women's Network is presented by the Charleston Area Alliance with sponsorship support from DOW Chemical Company.\n\n\n\nThe Alliance will be able to invoice only for groups of 10 or more. The Alliance cannot issue cancellation refunds within 48 hours of the event. Thank you.
X-ALT-DESC;FMTTYPE=text/html:<p><strong>Elevations Professional Women&#39\;s Network Luncheon: Women in Power!</strong><br />\nThursday\, October&nbsp\;29<br />\n11:30 a.m. to 1:15 p.m.<br />\nUniversity of Charleston&nbsp\;<br />\n<br />\nThe Charleston Area Alliance presents the Elevations Professional Women&#39\;s Network Luncheon: Women in Power\, a conversation about the changing energy landscape in America and how coal country can capitalize and lead in alternative energy\, too.&nbsp\;&nbsp\;</p>\n\n<p>The event opens at 11:30 a.m. with informal networking\,&nbsp\;followed by a seated luncheon&nbsp\;and a panel discussion with women in alternative energy&nbsp\;at noon.</p>\n\n<p>The panelists include:</p>\n\n<ul>\n	<li>Lucille Olszewski\, founding member&nbsp\;of <a href="http://www.ensemblewind.com/">Ensemble Wind</a>\, a wind service company offering consulting services that include bankable resource assessment\, wind farm optimization\, data quality control\, due diligence and project consulting.&nbsp\;</li>\n	<li>Autumn Proudlove\, Senior Policy Analyst at the <a href="http://nccleantech.ncsu.edu/">North Carolina Clean Technology Center</a>\;&nbsp\;</li>\n	<li>Ali Rodrian\, a wildlife biologist for <a href="http://www.tetratech.com/">Tetra Tech</a>\; and&nbsp\;</li>\n	<li>Christine Risch\, Director of Resource &amp\; Energy Economics for the <a href="http://www.marshall.edu/cber/">Center for Business and Economic Research at Marshall University</a>.&nbsp\;</li>\n</ul>\n\n<p>Reservations for this special event are $50 Alliance members/$60 future members until October 27&nbsp\;at 11:30 a.m. Prices increase to $60 Alliance members/$70 future members after that date.<br />\n<br />\nThe Elevations Professional Women&rsquo\;s Network is presented by the Charleston Area Alliance&nbsp\;with sponsorship support from&nbsp\;DOW Chemical Company.<br />\n<br />\n<span style="color: rgb(255\, 0\, 0)\;">The Alliance will be able to invoice only for groups of 10 or more. The Alliance cannot issue cancellation refunds within 48 hours of the event. Thank you.</span>&nbsp\;</p>\n
LOCATION:University of Charleston 2300 MacCorkle Ave. Charleston\, WV 25304
UID:e.1499.813
SEQUENCE:3
DTSTAMP:20260420T213630Z
URL:https://business.charlestonareaalliance.org/events/details/elevations-professional-women-s-network-luncheon-october-2015-10-29-2015-813
END:VEVENT

END:VCALENDAR
