BEGIN:VCALENDAR
VERSION:2.0
PRODID:-//ChamberMaster//Event Calendar 2.0//EN
METHOD:PUBLISH
X-PUBLISHED-TTL:P3D
REFRESH-INTERVAL:P3D
CALSCALE:GREGORIAN
BEGIN:VEVENT
DTSTART:20150311T154500Z
DTEND:20150311T170000Z
X-MICROSOFT-CDO-ALLDAYEVENT:FALSE
SUMMARY:Elevations Professional Women's Network Luncheon - March 2015
DESCRIPTION:Elevations Professional Women's Network Luncheon\n\nWednesday\, March 11\n\n11:45 a.m.-1 p.m.\n\nFour Points by Sheraton\n\n\n\nLisa Bullard\, director of undergraduate studies in the department of chemical and biomolecular engineering at North Carolina State University\, will discuss the organizational culture on recruiting and retention at the next Elevations luncheon on March 11 at the Four Points by Sheraton.\n\n\n\nThe event opens at 11:45 a.m. with informal networking followed by seated luncheon and address by Bullard at noon.\n\n\n\nReservations for this special event are $30 Alliance members/$40 future members until March 6 . Prices increase to $50 Alliance members/$60 future members after that date.\n\n\n\nBullard's research interests lie in the area of educational scholarship\, including teaching and advising effectiveness\, academic integrity\, process design instruction and the integration of writing\, speaking\, and computing within the curriculum.\n\n\n\nThe Elevations Professional Women's Network is presented by the Charleston Area Alliance and Title Sponsor DOW.\n\n\n\nThe Alliance will be able to invoice only for groups of 10 or more. The Alliance cannot issue cancelation refunds within 48 hours of the event. Thank you.
X-ALT-DESC;FMTTYPE=text/html:<br />\n<strong>Elevations Professional Women&#39\;s Network Luncheon</strong><br />\nWednesday\, March 11<br />\n11:45 a.m.-1 p.m.<br />\nFour Points by Sheraton<br />\n<br />\nLisa Bullard\, director of undergraduate studies in the department of chemical and biomolecular engineering at North Carolina State University\, will discuss the organizational culture on recruiting and retention at the next Elevations luncheon on March 11 at the Four Points by Sheraton.<br />\n<br />\nThe event opens at 11:45 a.m. with informal networking followed by seated luncheon and address by Bullard at noon.<br />\n<br />\nReservations for this special event are $30 Alliance members/$40 future members until March 6 . Prices increase to $50 Alliance members/$60 future members after that date.<br />\n<br />\nBullard&rsquo\;s research interests lie in the area of educational scholarship\, including teaching and advising effectiveness\, academic integrity\, process design instruction and the integration of writing\, speaking\, and computing within the curriculum.<br />\n<br />\nThe Elevations Professional Women&rsquo\;s Network is presented by the Charleston Area Alliance and Title Sponsor DOW.<br />\n<br />\n<span style="color:#FF0000\;">The Alliance will be able to invoice only for groups of 10 or more. The Alliance cannot issue cancelation refunds within 48 hours of the event. Thank you.</span>&nbsp\;&nbsp\;&nbsp\;&nbsp\; &nbsp\;<br />\n<br />\n&nbsp\;<br />\n&nbsp\;\n<p><br />\n<br />\n<br />\n<br />\n&nbsp\;</p>\n
LOCATION:Four Points by Sheraton 600 Kanawha Boulevard East
UID:e.1499.749
SEQUENCE:3
DTSTAMP:20260421T065854Z
URL:https://business.charlestonareaalliance.org/events/details/elevations-professional-women-s-network-luncheon-march-2015-03-11-2015-749
END:VEVENT

END:VCALENDAR
