BEGIN:VCALENDAR
VERSION:2.0
PRODID:-//ChamberMaster//Event Calendar 2.0//EN
METHOD:PUBLISH
X-PUBLISHED-TTL:P3D
REFRESH-INTERVAL:P3D
CALSCALE:GREGORIAN
BEGIN:VEVENT
DTSTART:20160609T153000Z
DTEND:20160609T170000Z
X-MICROSOFT-CDO-ALLDAYEVENT:FALSE
SUMMARY:Elevations Professional Women's Network Luncheon - June 2016
DESCRIPTION:Elevations Professional Women's Network Luncheon: Leadership and the Importance of Mentorship  \n\nThursday\, June 9\n\n11:30 am to 1:00 pm\n\nMarriott Charleston Town Center \n\n\n\nThe Charleston Area Alliance presents the Elevations Professional Women's Network Luncheon: "Leadership and the Importance of Mentorship\," a discussion with West Virginia's first female Brigadier General: Paige P. Hunter.  \n\nThe event opens at 11:30 a.m. with informal networking\, followed by a seated luncheon\, keynote and Q&A session. Elevations' events are the perfect opportunity to network with the region's top female leaders in a variety of industries and forge meaningful partnerships to move your organization and our community forward. \n\n\n\nBrigadier General Paige P. Hunter is the Chief of the Joint Staff for the West Virginia National Guard\, and has served in that position since September 2015. Her military career started in 1983 as a commissioned Second Lieutenant officer following her graduation from the Academy of Military Science. Prior to her current role\, Brigadier General Hunter served as the Human Resource Officer and the Director of Military Support to Civil Authorities. \n\n\n\nBrigadier General Hunter has a bachelor's degree in science education and a master's degree in communication. She served in Desert Shield and Desert Storm. \n\nReservations for this special event are $50 Alliance members/$60 future members until June 7 at 11:30 a.m. Prices increase to $60 Alliance members/$70 future members after that date.\n\n\n\nThe Elevations Professional Women?s Network is presented by the Charleston Area Alliance with sponsorship support from DOW Chemical Company.\n\n\n\nInvoicing available for groups of 10 or more.  No refunds issued within 48 hours of the event.
X-ALT-DESC;FMTTYPE=text/html:<p><strong>Elevations Professional Women&#39\;s Network Luncheon: Leadership and the Importance&nbsp\;of Mentorship&nbsp\;&nbsp\;</strong><br />\nThursday\, June&nbsp\;9<br />\n11:30 am&nbsp\;to 1:00&nbsp\;pm<br />\nMarriott Charleston Town Center&nbsp\;<br />\n<br />\nThe Charleston Area Alliance presents the Elevations Professional Women&#39\;s Network Luncheon: &quot\;Leadership and the Importance of Mentorship\,&quot\;&nbsp\;a discussion with&nbsp\;West Virginia&#39\;s first female&nbsp\;Brigadier General:&nbsp\;Paige P. Hunter.&nbsp\;&nbsp\;</p>\n\n<p>The event opens at 11:30 a.m. with informal networking\,&nbsp\;followed by a seated luncheon\, keynote&nbsp\;and Q&amp\;A session. Elevations&#39\; events are the perfect opportunity to network with the region&#39\;s top&nbsp\;female leaders in a variety of industries and forge meaningful partnerships to move your organization and our community forward.&nbsp\;<br />\n<br />\nBrigadier General Paige P. Hunter is the Chief of the Joint Staff for the West Virginia National Guard\, and has served in that position since September 2015. Her military career started in 1983 as a commissioned Second Lieutenant officer following her graduation from the Academy of Military Science. Prior to her current role\, Brigadier General Hunter served as the Human Resource Officer and the Director of Military Support to Civil Authorities.&nbsp\;<br />\n<br />\nBrigadier General Hunter has a bachelor&#39\;s degree in science education and a master&#39\;s degree in communication. She served in Desert Shield and Desert Storm.&nbsp\;</p>\n\n<p>Reservations for this special event are $50 Alliance members/$60 future members until June 7&nbsp\;at 11:30 a.m. Prices increase to $60 Alliance members/$70 future members after that date.<br />\n<br />\nThe Elevations Professional Women?s Network is presented by the Charleston Area Alliance&nbsp\;with sponsorship support from&nbsp\;DOW Chemical Company.<br />\n<br />\nInvoicing available for groups of 10 or more.&nbsp\; No refunds issued within 48 hours of the event.&nbsp\;</p>\n
LOCATION:Marriott Charleston Town Center 200 Lee Street East Charleston\, WV 25301
UID:e.1499.1863
SEQUENCE:3
DTSTAMP:20260420T110238Z
URL:https://business.charlestonareaalliance.org/events/details/elevations-professional-women-s-network-luncheon-june-2016-06-09-2016-1863
END:VEVENT

END:VCALENDAR
