BEGIN:VCALENDAR
VERSION:2.0
PRODID:-//ChamberMaster//Event Calendar 2.0//EN
METHOD:PUBLISH
X-PUBLISHED-TTL:P3D
REFRESH-INTERVAL:P3D
CALSCALE:GREGORIAN
BEGIN:VEVENT
DTSTART:20160218T163000Z
DTEND:20160218T183000Z
X-MICROSOFT-CDO-ALLDAYEVENT:FALSE
SUMMARY:Elevations Professional Women's Network Luncheon - February 2016
DESCRIPTION:Elevations Professional Women's Network Luncheon: Workplace Wellness and Mental Health \n\nThursday\, February 18\n\n11:30 a.m. to 1:30 p.m.\n\nFour Points by Sheraton \n\n\n\nThe Charleston Area Alliance presents the Elevations Professional Women's Network Luncheon: Workplace Wellness and Mental Health\, a conversation on the evolution of workplace wellness programs and mental health\, as well as on-going changes that will impact our future workforce. \n\nThe event opens at 11:30 a.m. with informal networking\, followed by a seated luncheon and panel discussion with women leading the charge in mental health at noon.\n\n\n\nDr. Cynthia Persily\, President and CEO of HHA\, Inc.\, including Highland Hospital Association\, Highland Behavioral Health Services\, Inc.\, Highland Hospital Foundation\, Inc. and Highland Health Center\, Inc. will moderate the panel discussion. \n\n\n\nPanelists include: \n\n\n	Sonya Christian\, a Kanawha County Schools psychologist \n	Dr. Michelle Easton\, University of Charleston School of Pharmacy Dean \n	Terri McCormick\, Brickstreet Mutual Insurance Human Resources Director\n	Dr. Jenee Walker\, a Charleston Area Medical Center adult and child psychiatrist\n\n\nReservations for this special event are $50 Alliance members/$60 future members until February 16 at 11:30 a.m. Prices increase to $60 Alliance members/$70 future members after that date.\n\n\n\nThe Elevations Professional Women's Network is presented by the Charleston Area Alliance with sponsorship support from DOW Chemical Company.\n\n\n\nInvoicing available for groups of 10 or more.  No refunds issued within 48 hours of the event.
X-ALT-DESC;FMTTYPE=text/html:<p><strong>Elevations Professional Women&#39\;s Network Luncheon: Workplace Wellness and Mental Health&nbsp\;</strong><br />\nThursday\, February 18<br />\n11:30 a.m. to 1:30&nbsp\;p.m.<br />\nFour Points by Sheraton&nbsp\;<br />\n<br />\nThe Charleston Area Alliance presents the Elevations Professional Women&#39\;s Network Luncheon: Workplace Wellness and Mental Health\, a conversation&nbsp\;on the evolution of workplace wellness programs and mental health\, as well as on-going changes that will impact our future workforce.&nbsp\;</p>\n\n<p>The event opens at 11:30 a.m. with informal networking\,&nbsp\;followed by a seated luncheon&nbsp\;and&nbsp\;panel discussion with&nbsp\;women leading the charge&nbsp\;in mental health&nbsp\;at noon.<br />\n<br />\nDr. Cynthia Persily\, President and CEO of HHA\, Inc.\, including Highland Hospital Association\, Highland Behavioral Health Services\, Inc.\, Highland Hospital Foundation\, Inc. and Highland Health Center\, Inc. will moderate the panel discussion.&nbsp\;<br />\n<br />\nPanelists include:&nbsp\;</p>\n\n<ul>\n	<li>Sonya Christian\, a Kanawha County Schools psychologist&nbsp\;</li>\n	<li>Dr. Michelle Easton\, University of Charleston School of Pharmacy Dean&nbsp\;</li>\n	<li>Terri McCormick\, Brickstreet Mutual Insurance Human Resources Director</li>\n	<li>Dr. Jenee Walker\, a Charleston Area Medical Center adult and child psychiatrist</li>\n</ul>\n\n<p>Reservations for this special event are $50 Alliance members/$60 future members until February 16&nbsp\;at 11:30 a.m. Prices increase to $60 Alliance members/$70 future members after that date.<br />\n<br />\nThe Elevations Professional Women&rsquo\;s Network is presented by the Charleston Area Alliance&nbsp\;with sponsorship support from&nbsp\;DOW Chemical Company.<br />\n<br />\nInvoicing available for groups of 10 or more.&nbsp\; No refunds issued within 48 hours of the event.&nbsp\;</p>\n
LOCATION:Four Points by Sheraton 600 Kanawha Blvd. E. Charleston\, WV 25301
UID:e.1499.825
SEQUENCE:3
DTSTAMP:20260420T155853Z
URL:https://business.charlestonareaalliance.org/events/details/elevations-professional-women-s-network-luncheon-february-2016-02-18-2016-825
END:VEVENT

END:VCALENDAR
