BEGIN:VCALENDAR
VERSION:2.0
PRODID:-//ChamberMaster//Event Calendar 2.0//EN
METHOD:PUBLISH
X-PUBLISHED-TTL:P3D
REFRESH-INTERVAL:P3D
CALSCALE:GREGORIAN
BEGIN:VEVENT
DTSTART:20111117T050000Z
DTEND:20111117T050000Z
X-MICROSOFT-CDO-ALLDAYEVENT:FALSE
SUMMARY:Elevations: Impact of the Arts Elevations Luncheon 2011
DESCRIPTION:
X-ALT-DESC;FMTTYPE=text/html:
LOCATION:Clay Center Main Stage
UID:e.1499.423
SEQUENCE:3
DTSTAMP:20260424T184815Z
URL:https://business.charlestonareaalliance.org/events/details/elevations-impact-of-the-arts-elevations-luncheon-2011-11-17-2011-423
END:VEVENT

END:VCALENDAR
