BEGIN:VCALENDAR
VERSION:2.0
PRODID:-//ChamberMaster//Event Calendar 2.0//EN
METHOD:PUBLISH
X-PUBLISHED-TTL:P3D
REFRESH-INTERVAL:P3D
CALSCALE:GREGORIAN
BEGIN:VEVENT
DTSTART:20110913T040000Z
DTEND:20110913T040000Z
X-MICROSOFT-CDO-ALLDAYEVENT:FALSE
SUMMARY:Elevations: Enrichment & Leadership Academy September 2011
DESCRIPTION:
X-ALT-DESC;FMTTYPE=text/html:
LOCATION:Embassy Suites
UID:e.1499.412
SEQUENCE:3
DTSTAMP:20260424T205626Z
URL:https://business.charlestonareaalliance.org/events/details/elevations-enrichment-leadership-academy-september-2011-09-13-2011-412
END:VEVENT

END:VCALENDAR
