BEGIN:VCALENDAR
VERSION:2.0
PRODID:-//ChamberMaster//Event Calendar 2.0//EN
METHOD:PUBLISH
X-PUBLISHED-TTL:P3D
REFRESH-INTERVAL:P3D
CALSCALE:GREGORIAN
BEGIN:VEVENT
DTSTART:20130306T170000Z
DTEND:20130306T200000Z
X-MICROSOFT-CDO-ALLDAYEVENT:FALSE
SUMMARY:ELEVATIONS Empowering Female Veterans and Women in Military Families 2013
DESCRIPTION:In conjunction with Women's Day at the Legislature\, ELEVATIONS is proud to partner with the WV Women's Commission to present  "Empowering Female Veterans and Women in Military Families\," a  luncheon and workshop to be held March 6 at the Embassy Suites.  The featured F7 Group promotes business\, training and entrepreneurial opportunities for women who serve.   \n\n	\n\n	The event will open at 11:45am with informal networking\, the lucheon begins at Noon with a workshop following lunch at 1:15pm. Registration is $30 for Alliance members\, $40 for future members through Friday\, March 1st. Fees increase to $40 Alliance members and $50 future members after that date. Women veterans are invited to attend with a complimentary ticket. Veterans should contact Leigh Anne Strickland as soon as possible to reserve your seat.\n\n	\n\n	If you work with an Alliance member business and need assistance locating your password to access your exclusive member discounts\, please email Leigh Anne Strickland.  \n\n	\n\n	ELEVATIONS is presented by the Charleston Area Alliance and Title Sponsor DOW. The mission of the 1800-member group is to enrich\, empower and elevate women to achieve success for themselves\, their business and their community.\n\n	\n\n	About the F7 Group:\n\n	Recognizing and believing in the courage\, value and abilities of women who serve our country in many different capacities\, the F7 Group provides fundamental tools\, systems and networks through retreats\, boot camps and technology based platforms. The group also provides corporate training programs to teach companies "how to speak VET". Visit the F7 Group online to learn more about the services\, trainings and programs offered for women veterans and the corporate and business communities.
X-ALT-DESC;FMTTYPE=text/html:<p>\n	<span style="font-size: 12px\;"><span style="color: rgb(105\, 105\, 105)\;">In conjunction with Women&rsquo\;s Day at the Legislature\, ELEVATIONS is proud to partner with the WV Women&rsquo\;s Commission to present&nbsp\; &ldquo\;Empowering Female Veterans and Women in Military Families\,&rdquo\; a &nbsp\;luncheon and workshop to be held March 6 at the Embassy Suites.&nbsp\; The featured F7 Group promotes business\, training and entrepreneurial opportunities for women who serve.&nbsp\;&nbsp\;&nbsp\;</span></span></p>\n<p>\n	<br />\n	<span style="font-size: 12px\;"><span style="color: rgb(105\, 105\, 105)\;">The event will open at 11:45am with informal networking\, the lucheon begins at Noon with a workshop following lunch at 1:15pm. Registration is $30 for Alliance members\, $40 for future members through Friday\, March 1st. Fees increase to $40 Alliance members and $50 future members after that date. Women veterans are invited to attend with a complimentary ticket. Veterans should contact <a href="mailto:LStrickland@charlestonareaalliance.org?subject=Veteran%20Seat%20Reservation">Leigh Anne Strickland</a> as soon as possible to reserve your seat.</span></span></p>\n<p>\n	<br />\n	<span style="font-size: 12px\;"><span style="color: rgb(105\, 105\, 105)\;">If you work with an Alliance member business and need assistance locating&nbsp\;your </span><strong><span style="color: rgb(178\, 34\, 34)\;">password&nbsp\;</span></strong><span style="color: rgb(105\, 105\, 105)\;">to access your&nbsp\;exclusive member discounts\, please email</span> <a href="mailto:LStrickland@charlestonareaalliance.org?subject=Password%20Inquiry">Leigh Anne Strickland</a>.&nbsp\; </span></p>\n<p>\n	<br />\n	<span style="font-size: 12px\;">ELEVATIONS is presented by the Charleston Area Alliance and Title Sponsor DOW. The mission of the 1800-member group is to enrich\, empower and elevate women to achieve success for themselves\, their business and their community.</span></p>\n<p>\n	<br />\n	<strong><span style="font-size: 12px\;"><span style="color: rgb(105\, 105\, 105)\;">About the F7 Group:</span></span></strong></p>\n<p>\n	<span style="font-size: 12px\;"><span style="color: rgb(105\, 105\, 105)\;">Recognizing and believing in the courage\, value and abilities of women who serve our country in many different capacities\, the F7 Group provides fundamental tools\, systems and networks through retreats\, boot camps and technology based platforms. The group also provides corporate training programs to teach companies &quot\;how to speak VET&quot\;. Visit the F7 Group online to learn more about the services\, trainings and programs offered for women veterans and the corporate and business communities.</span><br />\n	&nbsp\;</span></p>\n<p>\n	<br />\n	<br />\n	<br />\n	<span style="font-size: 12px\;">&nbsp\;</span></p>\n
LOCATION:Embassy Suites 300 Court Street Charleston\, WV 25301
UID:e.1499.552
SEQUENCE:3
DTSTAMP:20260422T140619Z
URL:https://business.charlestonareaalliance.org/events/details/elevations-empowering-female-veterans-and-women-in-military-families-2013-03-06-2013-552
END:VEVENT

END:VCALENDAR
