BEGIN:VCALENDAR
VERSION:2.0
PRODID:-//ChamberMaster//Event Calendar 2.0//EN
METHOD:PUBLISH
X-PUBLISHED-TTL:P3D
REFRESH-INTERVAL:P3D
CALSCALE:GREGORIAN
BEGIN:VEVENT
DTSTART:20130206T164500Z
DTEND:20130206T181500Z
X-MICROSOFT-CDO-ALLDAYEVENT:FALSE
SUMMARY:ELEVATIONS 'Education in WV' - February 2013
DESCRIPTION:Education in West Virginia will loom large over the Capitol this year as policy makers consider measures to address issues raised in a recent "education audit" of the state's public school system commissioned by Governor Earl Ray Tomblin. Education Alliance President/CEO Patricia S. Kusimo\, Ph.D.\, one of the state's foremost independent voices on the state of our schools will discuss the audit and ways to enhance education for West Virginia children at the next Elevations Professional Women's Network luncheon\, to be held Wednesday\, February 6\, at the Holiday Inn Hotel & Suites at the Charleston Conference Center in South Charleston. The event opens with registration and informal networking at 11:45 p.m. followed by lunch at noon.\n\n		 \n	\n		The Education Alliance is West Virginia's premier statewide\, nonprofit research and K-12 public education fund. It advocates for policies and practices to continually improve public school achievement in West Virginia.\n\n		\n\n		\n\n		 Reservations are $30 Alliance members/$40 future members through Jan. 31. Prices increase to $40 Alliance members/$50 future members after that date.\n	\n		Register via the link above. If you work with an Alliance member business and need help accessing your password to secure your member discount\, email Leigh Anne Strickland for assistance.\n	\n		The mission of the 1\,700-member Elevations group is to "enrich\, empower and elevate women to achieve success."?@ Through luncheons\, educational programs and other events\, Elevations connects women with the contacts\, resources and information to help them\, their businesses and their community succeed.\n\n		 \n	\n		Dr. Kusimo's commitment to educating children spans more than 25 years. Prior to joining The Education Alliance in December 2008\, Dr. Kusimo was the President/CEO of the West Virginia Center for Professional Development\, where she led the state agency in ensuring West Virginia educators had access to the professional development needed to improve student achievement. Dr. Kusimo has been a classroom teacher\, an associate college professor\, an educational researcher\, a business owner\, an author and a professional developer. When needed\, she has worn the hats of community activist\, impromptu legislative lobbyist\, tutor\, mentor and vocal advocate in order to improve the education of young people in West Virginia especially African American and low income children.\n	\n		Dr. Kusimo graduated with bachelor's degree in mathematics from Hampton University\, a master's degree in education from Pepperdine University and a doctoral degree in educational administration from Texas A&M University.\n\n		\n\n		Dr. Kusimo is the mother of two children\, Olubunmi Kusimo\, an assistant prosecutor\, and Olufemi Kusimo\, a recent graduate of Washington and Lee University\, currently employed at Goldman Sachs in Salt Lake City\, Utah. Dr. Kusimo is married to Rev. Joseph Kusimo\, retired Dow engineer and current pastor of Christ Life Church in Charleston.
X-ALT-DESC;FMTTYPE=text/html:<div style="color: gray\;">\n	<p>\n		<span style="font-size: 14px\;">Education in West Virginia will loom large over the Capitol this year as policy makers consider measures to address issues raised in a recent &quot\;education audit&quot\; of the state&rsquo\;s public school system commissioned by Governor Earl Ray Tomblin. Education Alliance President/CEO Patricia S. Kusimo\, Ph.D.\, one of the state&rsquo\;s foremost independent voices on the state of our schools will discuss the audit and ways to enhance education for West Virginia children at the next Elevations Professional Women&rsquo\;s Network luncheon\, to be held Wednesday\, February 6\, at the Holiday Inn Hotel &amp\; Suites at the Charleston Conference Center in South Charleston. The event opens with registration and informal networking at 11:45 p.m. followed by lunch at noon.<br />\n		&nbsp\;</span></p>\n	<p>\n		<span style="font-size: 14px\;">The Education Alliance is West Virginia&#39\;s premier statewide\, nonprofit research and K-12 public education fund. It advocates for policies and practices to continually improve public school achievement in West Virginia.<br />\n		<br />\n		<br />\n		<span _fck_bookmark="1" style="display: none\;">&nbsp\;</span><b>Reservations are $30 Alliance members/$40 future members through Jan. 31. Prices increase to $40 Alliance members/$50 future members after that date.</b></span></p>\n	<p>\n		<span style="color: rgb(178\, 34\, 34)\;"><span style="font-size: 12px\;">Register via the link above. If you work with an Alliance member business and need help accessing your password to secure your member discount\, email <a href="mailto:LStrickland@charlestonareaalliance.org?subject=Password%20Inquiry">Leigh Anne Strickland </a>for assistance.</span></span></p>\n	<p>\n		<span style="font-size: 14px\;">The mission of the 1\,700-member Elevations group is to &quot\;enrich\, empower and elevate women to achieve success.&quot\;?@ Through luncheons\, educational programs and other events\, Elevations connects women with the contacts\, resources and information to help them\, their businesses and their community succeed.<br />\n		&nbsp\;</span></p>\n	<p>\n		<span style="font-size: 14px\;"><b>Dr. Kusimo&#39\;s </b>commitment to educating children spans more than 25 years. Prior to joining The Education Alliance in December 2008\, Dr. Kusimo was the President/CEO of the <a href="http://www.wvcpd.org//oWest%20Virginia%20Center%20for%20Professional%20Development/t_blank"><font color="#0d62ff"><font color="#0d62ff">West Virginia Center for Professional Development</font></font></a>\, where she led the state agency in ensuring West Virginia educators had access to the professional development needed to improve student achievement. Dr. Kusimo has been a classroom teacher\, an associate college professor\, an educational researcher\, a business owner\, an author and a professional developer. When needed\, she has worn the hats of community activist\, impromptu legislative lobbyist\, tutor\, mentor and vocal advocate in order to improve the education of young people in West Virginia especially African American and low income children.</span></p>\n	<p>\n		<span style="font-size: 14px\;">Dr. Kusimo graduated with bachelor&#39\;s degree in mathematics from Hampton University\, a master&#39\;s degree in education from Pepperdine University and a doctoral degree in educational administration from <a href="http://www.tamu.edu//oTexas%20A&amp\;M%20University/t_blank"><u><font color="#0000ff"><font color="#0000ff">Texas A&amp\;M University</font></font></u></a>.<br />\n		<br />\n		Dr. Kusimo is the mother of two children\, Olubunmi Kusimo\, an assistant prosecutor\, and Olufemi Kusimo\, a recent graduate of Washington and Lee University\, currently employed at Goldman Sachs in Salt Lake City\, Utah. Dr. Kusimo is married to Rev. Joseph Kusimo\, retired Dow engineer and current pastor of Christ Life Church in Charleston.<br />\n		</span><font size="3"><font size="3"><font size="3"><span _fck_bookmark="1" style="display: none\;">&nbsp\;</span></font></font></font></p>\n	<p>\n		<span style="font-size: 14px\;">&nbsp\;</span></p>\n	<p>\n		<br />\n		<font size="3"><span _fck_bookmark="1" style="display: none\;">&nbsp\;</span></font></p>\n</div>\n
LOCATION:Holiday Inn Hotel & Suites at the Charleston Conference Center 400 2nd Avenue SW South Charleston\, WV 25303
UID:e.1499.545
SEQUENCE:3
DTSTAMP:20260422T140936Z
URL:https://business.charlestonareaalliance.org/events/details/elevations-education-in-wv-february-2013-02-06-2013-545
END:VEVENT

END:VCALENDAR
