BEGIN:VCALENDAR
VERSION:2.0
PRODID:-//ChamberMaster//Event Calendar 2.0//EN
METHOD:PUBLISH
X-PUBLISHED-TTL:P3D
REFRESH-INTERVAL:P3D
CALSCALE:GREGORIAN
BEGIN:VEVENT
DTSTART:20121029T150000Z
DTEND:20121029T210000Z
X-MICROSOFT-CDO-ALLDAYEVENT:FALSE
SUMMARY:Elevations Academy: We Can Do It! 2012
DESCRIPTION:About the Academy:\n\n	The third annual Elevations Enrichment and Leadership Academy is a half-day program featuring inspiring speakers and informative sessions to help professional women realize their potential and take their career to the next level. Presented by Elevations\, the Charleston Area Alliance Professional Women's Network\, the Academy will showcase best practices and concrete guidance from some of the most knowledgeable women\, and is the region's premier networking and educational event for young professional and executive women. \n\n	Themed "Success by Choice and by Chance"\, this event will begin with a keynote address from Congresswoman Shelley Moore Capito\,  and highlight two panels of knowledgeable women leaders from across the country discussing two exciting topics.  \n\n	\n\n	"Success by Chance: Leadership in the Eye of the Storm" \n\n	This panel features:\n\n	Moderator: Betty Ireland\, former WV Secretary of State\n\n	Susan Lavenski\, Charles Ryan Associates\n\n	Anne Montague\, WV Rosie the Riveter Project\n\n	WV Delegate Meshea Poore\n\n	Jennifer Sayre\, Kanawha County manager\n\n	Buddie Curdette\, WV Rosie\, WWII veteran\n\n	\n\n	\n\n	"Success by Choice: Designing Your Pattern for Success"\n\n	This panel features:\n\n	Moderator: Crystal Good\, Mythology Marketing\n\n	Emilie Couch\, Yarid's\n\n	Jennifer Miller\, Mission Savvy\n\n	Rachel Mallory Richards\, Vice President of Design for The Jones Group\n\n	Nesha Sanghavi\, University Girls Apparel\n\n	\n\n	Other sessions scheduled will also give attendees an opportunity to hear from \n\n	First Lady Joanne Jaeger Tomblin\, First Lady of WV\n\n	Kathleen DuBois\, Progressity\n\n	Emily Bennington\, Forbes blogger and author of "Who Says It's a Man's World: The Girl's Guide to Corporate Domination"\n\n	 \n\n	\n\n	Additional Exciting Information:\n\n	Optional (additional) Networking Dinner: \n\n	This exciting series of events will be followed by an optional  "Wine\, Women\, and Wisdom" networking dinner at Bridge Road Bistro. *Seating is limited for this additional event and tickets must be purchased separately.\n\n	Expo Showcase:\n\n	Organizations who purchase an expo table will be accessible and on display from 11am to 5pm. These expo sponsors will also be featured during a portion of the event's scheduled networking activities. Reserve your table as soon as possible!\n\n	Continuing Education Credit\n\n	This event will be submitted for continuing education credit for attorneys and CPAs.\n\n	Dress for Success \n\n	Move up and give back!  Representatives from Dress for Success will be on hand to collect contributions of professional clothing and accessories. Attendees are encouraged to bring donations.\n\n	\n\n	\n\n	Sponsorship Availability:\n\n	Sponsorship opportunities are available. \n\n	Summit Sponsor - $2500\n\n	   2 tables of 8 guests each\n\n	   Greetings with one panel\n\n	   Logo on event's multi-media\, social media & print materials\n\n	   Expo table\n\n	Ascent Sponsor - $1250\n\n	   1 table of 8 guests\n\n	   Logo on event's mulit-media\, social media & print materials\n\n	   Expo table\n\n	   Prominent signage at event\n\n	   Inclusion of company materials in registration kit\n\n	Table Sponsor - $750\n\n	   1 table of 8 guests  \n\n	   Logo on event's multi-media\, social media & print materials\n\n	   Prominent signage\n\n	Expo Sponsor - varies\n\n	   $300 Corporate Alliance Member \n\n	   $175 Non-profit Alliance Member\n\n	   *Prices increase to $400/$250 respectively on Sept. 29.\n\n	   2 tickets to the event\n\n	   Expo table\n\n	   Opportunity to provide door prize\n\n	   Listing in program & social media\n\n	   Highlighted during interactive networking exercise\n\n	Individual Attendee- varies\n\n	   $85 Alliance member\n\n	   $95 Future member\n\n	    *Prices increase to $95/105 respectively on Sept. 29.\n\n	   \n\n	\n\n	   \n\n	Registration Information:\n\n	Registration for individual attendees is available online.\n\n	To purchase individual tickets  Click here.\n\n	\n\n	To purchase a ticket to the optional wine dinner\, click here.\n\n	*Wine dinner tickets are only accessible to those who register to attend the Academy program.\n\n	\n\n	Those interested in sponsorship opportunities please contact JoEllen Zacks.\n\n	\n\n	Those interested in purchasing an expo table\, please contact Matthew Thompson.
X-ALT-DESC;FMTTYPE=text/html:<p>\n	<br />\n	<span style="font-family: arial\, sans-serif"><span style="font-size: 10pt"><span style="font-size: 14px"><strong>About the Academy:</strong></span><br />\n	The third annual Elevations Enrichment and Leadership Academy is a half-day program featuring inspiring speakers and informative sessions to help professional women realize their potential and take their career to the next level. </span></span><span style="font-family: arial\, sans-serif"><span style="font-size: 10pt">Presented by Elevations\, the Charleston Area Alliance Professional Women&rsquo\;s Network\, the Academy will&nbsp\;</span></span><span style="font-family: arial\, sans-serif\; font-size: 10pt">showcase best practices and concrete guidance from some of the most knowledgeable women\, and is the region&rsquo\;s premier networking and educational event for young professional and executive women.&nbsp\;</span></p>\n<p>\n	<span style="font-size: 12px">Themed <span style="color: rgb(0\,153\,255)"><strong>&quot\;Success by Choice and by Chance&quot\;</strong></span>\, this event will begin with a keynote address from Congresswoman Shelley Moore Capito\, &nbsp\;and highlight two panels of knowledgeable women leaders from across the country discussing two exciting topics. &nbsp\;<br />\n	<br />\n	<span style="color: rgb(0\,0\,0)"><strong>&quot\;Success by Chance: Leadership in the Eye of the Storm&quot\; </strong></span><br />\n	This panel features:<br />\n	Moderator: Betty Ireland\, former WV Secretary of State<br />\n	Susan Lavenski\, Charles Ryan Associates<br />\n	Anne Montague\, WV Rosie the Riveter Project<br />\n	WV Delegate Meshea Poore<br />\n	Jennifer Sayre\, Kanawha County manager<br />\n	Buddie Curdette\, WV Rosie\, WWII veteran<br />\n	<br />\n	<br />\n	<span style="color: rgb(0\,0\,0)"><strong>&quot\;Success by Choice: Designing Your Pattern for Success&quot\;</strong></span><br />\n	This panel features:<br />\n	Moderator: Crystal Good\, Mythology Marketing<br />\n	Emilie Couch\, Yarid&#39\;s<br />\n	Jennifer Miller\, Mission Savvy<br />\n	Rachel Mallory Richards\, Vice President of Design for The Jones Group<br />\n	Nesha Sanghavi\, University Girls Apparel<br />\n	<br />\n	Other sessions scheduled will also give attendees an opportunity to hear from&nbsp\;<br />\n	First Lady Joanne Jaeger Tomblin\, First Lady of WV<br />\n	Kathleen DuBois\, Progressity<br />\n	Emily Bennington\, Forbes blogger and author of &quot\;Who Says It&#39\;s a Man&#39\;s World: The Girl&#39\;s Guide to Corporate Domination&quot\;</span><br />\n	&nbsp\;</p>\n<p>\n	<br />\n	<span style="font-size: 12px"><span style="font-size: 14px"><strong>Additional Exciting Information:</strong></span><br />\n	<span style="color: rgb(0\,153\,255)">Optional (additional) Networking Dinner:&nbsp\;</span><br />\n	This exciting series of events will be followed by an optional &nbsp\;&quot\;Wine\, Women\, and Wisdom&quot\; networking dinner at Bridge Road Bistro. *Seating is limited for this additional event and tickets must be purchased separately.<br />\n	<span style="color: rgb(0\,153\,255)">Expo Showcase:</span><br />\n	Organizations who purchase an expo table will be accessible and on display from 11am to 5pm. These expo sponsors will also be featured during a portion of the event&#39\;s scheduled networking activities. Reserve your table as soon as possible!<br />\n	<span style="color: rgb(0\,153\,255)">Continuing Education Credit</span><br />\n	This event will be submitted for continuing education credit for attorneys and CPAs.<br />\n	<span style="color: rgb(0\,153\,255)">Dress for Success </span><br />\n	Move up and give back! &nbsp\;Representatives from Dress for Success will be on hand to collect contributions of professional clothing and accessories. Attendees are encouraged to bring donations.<br />\n	<br />\n	<br />\n	<span style="font-size: 14px"><strong>Sponsorship Availability:</strong></span><br />\n	Sponsorship opportunities are available.&nbsp\;<br />\n	<strong>Summit Sponsor - $2500</strong><br />\n	&nbsp\; &nbsp\;2 tables of 8 guests each<br />\n	&nbsp\; &nbsp\;Greetings with one panel<br />\n	&nbsp\; &nbsp\;Logo on event&#39\;s multi-media\, social media &amp\; print materials<br />\n	&nbsp\; &nbsp\;Expo table<br />\n	<strong>Ascent Sponsor - $1250</strong><br />\n	&nbsp\; &nbsp\;1 table of 8 guests<br />\n	&nbsp\; &nbsp\;Logo on event&#39\;s mulit-media\, social media &amp\; print materials<br />\n	&nbsp\; &nbsp\;Expo&nbsp\;table<br />\n	&nbsp\;&nbsp\;&nbsp\;Prominent signage at event<br />\n	&nbsp\; &nbsp\;Inclusion of company materials in registration kit<br />\n	<strong>Table Sponsor - $750</strong><br />\n	&nbsp\; &nbsp\;1 table of 8 guests &nbsp\;<br />\n	&nbsp\; &nbsp\;Logo on event&#39\;s multi-media\, social media &amp\; print materials<br />\n	&nbsp\; &nbsp\;Prominent signage<br />\n	<strong>Expo Sponsor - varies</strong><br />\n	&nbsp\; &nbsp\;$300 Corporate Alliance Member&nbsp\;<br />\n	&nbsp\; &nbsp\;$175 Non-profit Alliance Member<br />\n	<span style="font-size: 11px">&nbsp\; &nbsp\;*Prices increase to $400/$250 respectively on Sept. 29.</span><br />\n	&nbsp\; &nbsp\;2 tickets to the event<br />\n	&nbsp\; &nbsp\;Expo table<br />\n	&nbsp\; &nbsp\;Opportunity to provide door prize<br />\n	&nbsp\; &nbsp\;Listing in program &amp\; social media<br />\n	&nbsp\; &nbsp\;Highlighted during interactive networking exercise<br />\n	<strong><em>Individual Attendee- varies</em></strong><br />\n	&nbsp\; &nbsp\;$85 Alliance member<br />\n	&nbsp\; &nbsp\;$95 Future member<br />\n	<span style="font-size: 11px">&nbsp\; &nbsp\; *Prices increase to $95/105 respectively on Sept. 29.</span><br />\n	&nbsp\; &nbsp\;<br />\n	<br />\n	&nbsp\; &nbsp\;</span></p>\n<p>\n	<span style="font-size: 12px"><span style="color: #b22222"><span style="font-size: 14px"><strong>Registration Information:</strong></span></span><br />\n	Registration for individual attendees&nbsp\;is available online.<br />\n	To purchase individual tickets</span><span style="font-size: 12px">&nbsp\;&nbsp\;<a href="http://old.charlestonareaalliance.org/events/detail.aspx?Eventid=895">Click here</a>.<br />\n	<br />\n	To purchase a ticket to the optional wine dinner\, <a href="http://old.charlestonareaalliance.org/events/detail.aspx?Eventid=897">click here</a>.<br />\n	*Wine dinner tickets are only accessible to those who register to attend the Academy program.<br />\n	<br />\n	Those interested in sponsorship opportunities please contact <u><a href="mailto:JZacks@charlestonareaalliance.org?subject=Elevations%20Academy%20Sponsor%20Inquiry">JoEllen Zacks</a></u>.</span><br />\n	<br />\n	Those interested in purchasing an expo&nbsp\;table\, please contact <a href="mailto:MThompson@charlestonareaalliance.org?subject=Elevations%20Academy%20EXPO%20Inquiry">Matthew Thompson</a>.<br />\n	<br />\n	<br />\n	<br />\n	<br />\n	&nbsp\;</p>\n
LOCATION:Embassy Suites 300 Court Street Charleston\, WV 25301
UID:e.1499.506
SEQUENCE:3
DTSTAMP:20260422T190335Z
URL:https://business.charlestonareaalliance.org/events/details/elevations-academy-we-can-do-it-2012-10-29-2012-506
END:VEVENT

END:VCALENDAR
