BEGIN:VCALENDAR
VERSION:2.0
PRODID:-//ChamberMaster//Event Calendar 2.0//EN
METHOD:PUBLISH
X-PUBLISHED-TTL:P3D
REFRESH-INTERVAL:P3D
CALSCALE:GREGORIAN
BEGIN:VEVENT
DTSTART:20141027T130000Z
DTEND:20141027T180000Z
X-MICROSOFT-CDO-ALLDAYEVENT:FALSE
SUMMARY:Elevations Academy 2014: Do the Right Thing: Ethics and Corporate Responsibility
DESCRIPTION:About the Academy:\n\n\n\nSave the date for the fifth annual Elevations Enrichment and Leadership Academy on Monday\, Oct. 27 at the Embassy Suites.\n\n\n\nThe academy is a half-day workshop featuring inspiring speakers and informative sessions to help professional women realize their potential and take their career to the next level.\n\n\n\nThe focus of this year's academy is ethics and corporate responsibility. The event will begin with registration at 8 a.m. The program starts at 8:45 a.m. and ends at 1 p.m. Last year's Elevations event attracted more than 300 attendees.\n\n\n\nThe Elevations Enrichment and Leadership Academy also features an expo where local businesses\, products and services are featured. To register for the expo\, contact Erica Boles at EBoles@CharlestonAreaAlliance.org.\n\n\n\nEarly bird registration is $85 for Alliance members and $95 for future members. The cost for each goes up after Oct. 20 to $95 for Alliance members and $105 for future members.\n\n\n\nSponsorship opportunities are available. Contact Erica Boles for more details.\n\n\n\nElevations is presented in partnership with Title Sponsor DOW Chemical Company. The mission of the 1\,700-member network is to "enrich\, empower and elevate women to achieve success."  \n\n\n\nThrough luncheons and other events\, Elevations provides an affirmative network that connects professional women with the information\, resources and contacts that help them\, their businesses and their communities succeed.\n\n\n\nSponsorship Availability:\n\n\n\nSponsorship opportunities and expo tables are available. Contact Erica Boles at EBoles@CharlestonAreaAlliance.org for more information.
X-ALT-DESC;FMTTYPE=text/html:<p><span style="font-family: arial\, sans-serif\;"><span style="font-size: 10pt\;"><span style="font-size: 14px\;"><strong>About the Academy:</strong></span></span></span><br />\n<br />\nSave the date for the fifth annual Elevations Enrichment and Leadership Academy on Monday\, Oct. 27 at the Embassy Suites.<br />\n<br />\nThe academy is a half-day workshop featuring inspiring speakers and informative sessions to help professional women realize their potential and take their career to the next level.<br />\n<br />\nThe focus of this year&rsquo\;s academy is ethics and corporate responsibility. The event will begin with registration at 8 a.m. The program starts at 8:45 a.m. and ends at 1 p.m. Last year&rsquo\;s Elevations event attracted more than 300 attendees.<br />\n<br />\nThe Elevations Enrichment and Leadership Academy also features an expo where local businesses\, products and services are featured. To register for the expo\, contact Erica Boles at EBoles@CharlestonAreaAlliance.org.<br />\n<br />\nEarly bird registration is $85 for Alliance members and $95 for future members. The cost for each goes up after Oct. 20 to $95 for Alliance members and $105 for future members.<br />\n<br />\nSponsorship opportunities are available. Contact Erica Boles for more details.<br />\n<br />\nElevations is presented in partnership with Title Sponsor DOW Chemical Company. The mission of the 1\,700-member network is to &ldquo\;enrich\, empower and elevate women to achieve success.&rdquo\; &nbsp\;<br />\n<br />\nThrough luncheons and other events\, Elevations provides an affirmative network that connects professional women with the information\, resources and contacts that help them\, their businesses and their communities succeed.<br />\n<br />\n<span style="font-size: 12px\;"><span style="font-size: 14px\;"><strong>Sponsorship Availability:</strong></span><br />\n<br />\nSponsorship opportunities and expo tables are available. </span>Contact Erica Boles at EBoles@CharlestonAreaAlliance.org for more information.<br />\n<br />\n<br />\n<br />\n<br />\n&nbsp\;</p>\n
LOCATION:Embassy Suites 300 Court Street Charleston\, WV 25301
UID:e.1499.736
SEQUENCE:3
DTSTAMP:20260421T131947Z
URL:https://business.charlestonareaalliance.org/events/details/elevations-academy-2014-do-the-right-thing-ethics-and-corporate-responsibility-10-27-2014-736
END:VEVENT

END:VCALENDAR
