BEGIN:VCALENDAR
VERSION:2.0
PRODID:-//ChamberMaster//Event Calendar 2.0//EN
METHOD:PUBLISH
X-PUBLISHED-TTL:P3D
REFRESH-INTERVAL:P3D
CALSCALE:GREGORIAN
BEGIN:VEVENT
DTSTART:20131030T151500Z
DTEND:20131030T210000Z
X-MICROSOFT-CDO-ALLDAYEVENT:FALSE
SUMMARY:Elevations Academy 2013: We Built this City: Imagine. Create. Lead.
DESCRIPTION:About the Academy:\n\n\n\n"We Built this City:\n\nImagine. Create. Lead."\n\nElevations Enrichment and Leadership Academy\n\nWednesday\, October 30\n\n11 a.m.-5 p.m.\n\nEmbassy Suites\n\n\n\n"We Built this City: Imagine. Create. Lead" is presented by West Virginia American Water.  The event runs 11 a.m.-5 p.m. followed by an optional Uncork & Create event for attendees that starts at 6 p.m.  (Capacity for this activity is extremely limited.)\n\n\n\nUsing the City of Charleston's "Imagine Charleston" comprehensive plan as a launching pad for discussion\, the program will profile trailblazing women in WV history who took risks to advance their communities or businesses\; feature an interactive community development exercise\; present strategies for moving forward from the perspectives of the technology sector\, the creative class\, downtown businesses and large corporations\; and close with a powerful call to action through formal remarks and performance art.\n\n\n\nThe event opens with a luncheon\, and includes an expo where dozens of businesses and organizations that market to women will showcase their services and products.  Following the Academy\, attendees may participate in a special "Uncork & Create" event\, which starts at 6 p.m.\, for an additional fee. The after-hours event includes wine and heavy hors d'oeuvres\, and will be held at\n\n1031 Quarrier Street. Separate registration is required.\n\n\n\nHistorically\, some or all of the Elevations Academy has been approved for continuing education credit.  This year's agenda will be submitted for approval by the WV State Bar and WV Board of Accountancy.\n\n\n\nOpening speaker is  Mary Beth Heydrick of DOW\, the company's business manufacturing technology leader.  Based in Freeport\, Texas\, Heydrick will share perspectives on leadership\, innovation\, risk and change.\n\n\n\nOther confirmed speakers to date are:\n\n\n	Alisa Bailey\, Charleston Convention and Visitors Bureau\n	Anne Barth\, TechConnect\n	Ellen Cappellanti\, Jackson Kelly\n	Mary Jean Davis\, Charleston City Council\n	Georgette George\, Monarch Properties\n	Crystal Good\, Mixxed Media\n	Cathy Nutter\, House of Luxe\n	Connie Park Rice\, PhD\, WVU Department of History\n	Gina Rugeley\, Junior League of Charleston\n	Susie Salisbury\, Charleston Area Alliancie\n	Danielle Snidow\, Uncork & Create\n	Deb Weinstein\, YWCA of Charleston\n\n\n\n\nEarly bird registration is $90 for Alliance members and $100 for future members.\n\n\n\nA range of exclusive sponsorship opportunities is available. For more information\, contact JoEllen Zacks\, jzacks@charlestonareaalliance.org.\n\n\n\nLast year's Elevations event attracted more than 300 attendees. DOW is the title sponsor of Elevations.\n\n\n\nThe Alliance will be able to invoice only for groups of 10 or more. Contact Deb Coffman at DCoffman@CharlestonAreaAlliance.org for more information. The Alliance cannot issue cancelation refunds within 48 hours of the event. Thank you.     \n\n\n\nAdditional Exciting Information:\n\nExpo Showcase:\n\nOrganizations who purchase an expo table will be accessible and on display from 11 a.m to 5 p.m. These expo sponsors will also be featured during a portion of the event's scheduled networking activities. Reserve your table as soon as possible! Click HERE to sign up for the expo.\n\n\n\nContinuing Education Credit\n\nThis event will be submitted for continuing education credit for attorneys and CPAs\n\n\n\nSponsorship Availability:\n\n\n\nSponsorship opportunities are available. \n\n\n\nRegistration Information:\n\n\n\nThose interested in sponsorship opportunities\, please contact JoEllen Zacks.\n\n\n\nThose interested in purchasing an expo table\, please contact Matthew Thompson.
X-ALT-DESC;FMTTYPE=text/html:<p><br />\n<span style="font-family: arial\, sans-serif\;"><span style="font-size: 10pt\;"><span style="font-size: 14px\;"><strong>About the Academy:</strong></span></span></span><br />\n<br />\n<strong>&quot\;We Built this City:<br />\nImagine. Create. Lead.&quot\;<br />\nElevations Enrichment and Leadership Academy</strong><br />\nWednesday\, October 30<br />\n11 a.m.-5 p.m.<br />\nEmbassy Suites<br />\n<br />\n&quot\;We Built this City: Imagine. Create. Lead&quot\; is presented by West Virginia American Water.&nbsp\; The event runs 11 a.m.-5 p.m. followed by an optional Uncork &amp\; Create event for attendees that starts at 6 p.m.&nbsp\; (Capacity for this activity is extremely limited.)<br />\n<br />\nUsing the City of Charleston&rsquo\;s &ldquo\;Imagine Charleston&rdquo\; comprehensive plan as a launching pad for discussion\, the program will profile trailblazing women in WV history who took risks to advance their communities or businesses\; feature an interactive community development exercise\; present strategies for moving forward from the perspectives of the technology sector\, the creative class\, downtown businesses and large corporations\; and close with a powerful call to action through formal remarks and performance art.<br />\n<br />\nThe event opens with a luncheon\, and includes an expo where dozens of businesses and organizations that market to women will showcase their services and products.&nbsp\; Following the Academy\, attendees may participate in a special &ldquo\;Uncork &amp\; Create&rdquo\; event\, which starts at 6 p.m.\, for an additional fee. The after-hours event includes wine and heavy hors d&rsquo\;oeuvres\, and will be held at<br />\n1031 Quarrier Street. Separate registration is required.<br />\n<br />\nHistorically\, some or all of the Elevations Academy has been approved for continuing education credit.&nbsp\; This year&rsquo\;s agenda will be submitted for approval by the WV State Bar and WV Board of Accountancy.<br />\n<br />\nOpening speaker is&nbsp\; Mary Beth Heydrick of DOW\, the company&rsquo\;s business manufacturing technology leader.&nbsp\; Based in Freeport\, Texas\, Heydrick will share perspectives on leadership\, innovation\, risk and change.<br />\n<br />\nOther confirmed speakers to date are:</p>\n\n<ul>\n	<li>Alisa Bailey\, Charleston Convention and Visitors Bureau</li>\n	<li>Anne Barth\, TechConnect</li>\n	<li>Ellen Cappellanti\, Jackson Kelly</li>\n	<li>Mary Jean Davis\, Charleston City Council</li>\n	<li>Georgette George\, Monarch Properties</li>\n	<li>Crystal Good\, Mixxed Media</li>\n	<li>Cathy Nutter\, House of Luxe</li>\n	<li>Connie Park Rice\, PhD\, WVU Department of History</li>\n	<li>Gina Rugeley\, Junior League of Charleston</li>\n	<li>Susie Salisbury\, Charleston Area Alliancie</li>\n	<li>Danielle Snidow\, Uncork &amp\; Create</li>\n	<li>Deb Weinstein\, YWCA of Charleston</li>\n</ul>\n\n<p><br />\nEarly bird registration is $90 for Alliance members and $100 for future members.<br />\n<br />\nA range of exclusive sponsorship opportunities is available. For more information\, contact JoEllen Zacks\, <a href="mailto:jzacks@charlestonareaalliance.org">jzacks@charlestonareaalliance.org</a>.<br />\n<br />\nLast year&rsquo\;s Elevations event attracted more than 300 attendees. DOW is the title sponsor of Elevations.<br />\n<br />\n<span style="color: rgb(255\, 0\, 0)\;">The Alliance will be able to invoice only for groups of 10 or more. Contact Deb Coffman at DCoffman@CharlestonAreaAlliance.org for more information. The Alliance cannot issue cancelation refunds within 48 hours of the event. Thank you.&nbsp\;&nbsp\;&nbsp\;&nbsp\;&nbsp\;</span></p>\n\n<p><br />\n<span style="font-size: 12px\;"><span style="font-size: 14px\;"><strong>Additional Exciting Information:</strong></span><br />\n<span style="color: rgb(0\, 153\, 255)\;">Expo Showcase:</span><br />\nOrganizations who purchase an expo table will be accessible and on display from 11 a.m to 5 p.m. These expo sponsors will also be featured during a portion of the event&#39\;s scheduled networking activities. Reserve your table as soon as possible! Click <a href="http://charlestonareaalliance.chambermaster.com/Events/details/2013-elevations-academy-we-built-this-city-imagine-create-lead-666">HERE</a> to sign up for the expo.<br />\n<br />\n<span style="color: rgb(0\, 153\, 255)\;">Continuing Education Credit</span><br />\nThis event will be submitted for continuing education credit for attorneys and CPAs<br />\n<br />\n<span style="font-size: 14px\;"><strong>Sponsorship Availability:</strong></span><br />\n<br />\nSponsorship opportunities are available.&nbsp\;</span><br />\n<br />\n<span style="font-size: 12px\;"><span style="color: rgb(178\, 34\, 34)\;"><span style="font-size: 14px\;"><strong>Registration Information:</strong></span></span></span><br />\n<br />\n<span style="font-size: 12px\;">Those interested in sponsorship opportunities\, please contact <u><a href="mailto:JZacks@charlestonareaalliance.org?subject=Elevations%20Academy%20Sponsor%20Inquiry">JoEllen Zacks</a></u>.</span><br />\n<br />\nThose interested in purchasing an expo&nbsp\;table\, please contact <a href="mailto:MThompson@charlestonareaalliance.org?subject=Elevations%20Academy%20EXPO%20Inquiry">Matthew Thompson</a>.<br />\n<br />\n<br />\n<br />\n<br />\n&nbsp\;</p>\n
LOCATION:Embassy Suites 300 Court Street Charleston\, WV 25301
UID:e.1499.665
SEQUENCE:3
DTSTAMP:20260422T035826Z
URL:https://business.charlestonareaalliance.org/events/details/elevations-academy-2013-we-built-this-city-imagine-create-lead-10-30-2013-665
END:VEVENT

END:VCALENDAR
