BEGIN:VCALENDAR
VERSION:2.0
PRODID:-//ChamberMaster//Event Calendar 2.0//EN
METHOD:PUBLISH
X-PUBLISHED-TTL:P3D
REFRESH-INTERVAL:P3D
CALSCALE:GREGORIAN
BEGIN:VEVENT
DTSTART:20131030T151500Z
DTEND:20131030T210000Z
X-MICROSOFT-CDO-ALLDAYEVENT:FALSE
SUMMARY:Elevations Academy 2013: We Built this City - EXPO Registration
DESCRIPTION:Showcase your business\, product or service at the region's premier netwoking and leadership event for young professional and executive women: the fourth annual Enrichment and Leadership academy.\n\n	\n\n	Expo sponsors receive two full-admission tickets to the event\; exhibit table from 11 a.m.-5 p.m.\; listing in program and multi- and social media promotions\; and the opportunity to provide door prize.\n\n	\n\n	Visits to expo tables will be incorporated into leadership networking exercises to increase sponsor exposure and contact with attendees.\n\n	Expo registration fees are $300 corporate Alliance member\; $175 non-profit member. Future member fees are $400 corporate tables\, $275 non-profit tables. Prices for all increase by $100 after Oct.18.\n\n	\n\n	Last year's Elevations Expo sold out quickly and tables are going fast this year. Table assignments will be processed on a first-come basis.\n\n	\n\n	For more info\, contact Matthew Thompson by e-mail HERE.\n\n	\n\n	To register as an individual to attend the Elevations Academy\, click HERE.
X-ALT-DESC;FMTTYPE=text/html:<p style="margin: 5px\; text-align: left\; padding-left: 5px\; font-family: arial\, helvetica\, sans-serif\; font-size: 13px\;">\n	Showcase your business\, product or service at the region&#39\;s premier netwoking and leadership event for young professional and executive women: the&nbsp\;fourth annual Enrichment and Leadership academy.<br />\n	<br />\n	Expo sponsors receive two full-admission tickets to the event\; exhibit table from&nbsp\;11 a.m.-5 p.m.\; listing in program and multi- and social media promotions\; and the opportunity to provide door prize.<br />\n	<br />\n	Visits to expo tables will be incorporated into leadership networking exercises to increase sponsor exposure and contact with attendees.</p>\n<p style="margin: 5px\; text-align: left\; padding-left: 5px\; font-family: arial\, helvetica\, sans-serif\; font-size: 13px\;">\n	Expo registration fees are $300 corporate Alliance member\; $175 non-profit member. Future member fees are $400 corporate tables\, $275 non-profit tables. <span style="text-decoration: underline\;">Prices for all increase by $100 after Oct.18</span>.<br />\n	<br />\n	Last year&#39\;s Elevations Expo sold out quickly and tables are going fast this year. Table assignments will be processed on a first-come basis.<br />\n	<br />\n	For more info\, contact Matthew Thompson by e-mail <a class="ApplyClass" href="mailto:mthompson@charlestonareaalliance.org">HERE</a>.<br />\n	<br />\n	To register as an individual to attend the Elevations Academy\, click <a href="http://charlestonareaalliance.chambermaster.com/Events/details/elevations-academy-we-built-this-city-2013-665">HERE</a>.</p>\n<p>\n	&nbsp\;</p>\n<p>\n	<br />\n	<br />\n	<br />\n	<br />\n	&nbsp\;</p>\n
LOCATION:Embassy Suites 300 Court Street Charleston\, WV 25301
UID:e.1499.666
SEQUENCE:3
DTSTAMP:20260422T035917Z
URL:https://business.charlestonareaalliance.org/events/details/elevations-academy-2013-we-built-this-city-expo-registration-10-30-2013-666
END:VEVENT

END:VCALENDAR
