BEGIN:VCALENDAR
VERSION:2.0
PRODID:-//ChamberMaster//Event Calendar 2.0//EN
METHOD:PUBLISH
X-PUBLISHED-TTL:P3D
REFRESH-INTERVAL:P3D
CALSCALE:GREGORIAN
BEGIN:VEVENT
DTSTART:20140711T200000Z
DTEND:20140711T220000Z
X-MICROSOFT-CDO-ALLDAYEVENT:FALSE
SUMMARY:Educator | Industry Institute Reception
DESCRIPTION:Join past and present Educator | Industry Participants in addition to industry professionals and school administrators in a networking reception.\n\n\n\nThe reception falls on the Friday between the two weeks of E|II workshops.  We aim to bring a diverse group of professionals together to discuss the evolution of the classroom and of the education/industry relationship going forward.
X-ALT-DESC;FMTTYPE=text/html:Join past and present Educator | Industry Participants in addition to industry professionals and school administrators in a networking reception.<br />\n<br />\nThe reception falls on the Friday between the two weeks of E|II workshops. &nbsp\;We aim to bring a diverse group of professionals together to discuss the evolution of the classroom and of the education/industry relationship going forward.&nbsp\;&nbsp\;&nbsp\;&nbsp\;&nbsp\;&nbsp\;&nbsp\;&nbsp\;
LOCATION:The reception will be held at the Charleston Area Alliance. The Alliance is located at 1116 Smith Street\, Charleston WV 25301. Parking is available on-site.
UID:e.1499.710
SEQUENCE:3
DTSTAMP:20260421T165145Z
URL:https://business.charlestonareaalliance.org/events/details/educator-industry-institute-reception-07-11-2014-710
END:VEVENT

END:VCALENDAR
