BEGIN:VCALENDAR
VERSION:2.0
PRODID:-//ChamberMaster//Event Calendar 2.0//EN
METHOD:PUBLISH
X-PUBLISHED-TTL:P3D
REFRESH-INTERVAL:P3D
CALSCALE:GREGORIAN
BEGIN:VEVENT
DTSTART:20150413T193000Z
DTEND:20150413T210000Z
X-MICROSOFT-CDO-ALLDAYEVENT:FALSE
SUMMARY:Educator | Industry Institute Campaign Roll-out
DESCRIPTION:The Alliance has partnered with MESH | Design & Development to create a communication campaign relevant to high school students that can be replicated for minimum costs.  The campaign features posters\, stickers\, social media management and even brief classroom activities that describe the opportunities and needs of WV employers.\n\n\n\nThis event will introduce those materials\, as well as catch you up on the upcoming E|II event this summer. You also will get the opportunity to share updates\, and reconnect with your colleagues!\n\n\n\nLight refreshments will be served\, and the event will wrap up shortly after 5pm. Please click on the link above to complete the brief registration. \n\n\n\nEducator | Industry Institute is funded by a grant from the JPMorgan Chase Foundation.
X-ALT-DESC;FMTTYPE=text/html:<br />\nThe Alliance has partnered with MESH | Design &amp\; Development to create a communication campaign relevant to high school students that can be replicated for minimum costs.&nbsp\; The campaign features posters\, stickers\, social media management and even brief classroom activities that describe the opportunities and needs of WV employers.<br />\n<br />\nThis event will introduce those materials\, as well as catch you up on the upcoming E|II event this summer. You also will get the opportunity to share updates\, and reconnect with your colleagues!<br />\n<br />\nLight refreshments will be served\, and the event will wrap up shortly after 5pm. Please click on the link above to complete the brief registration.&nbsp\;<br />\n<br />\n<span style="font-size: 12px\;"><em>Educator | Industry Institute is funded by a grant from the JPMorgan Chase Foundation.</em></span>
LOCATION:Charleston Area Alliance Large Conference Room 1116 Smith Street Charleston\, WV 25301
UID:e.1499.759
SEQUENCE:3
DTSTAMP:20260421T054527Z
URL:https://business.charlestonareaalliance.org/events/details/educator-industry-institute-campaign-roll-out-04-13-2015-759
END:VEVENT

END:VCALENDAR
