BEGIN:VCALENDAR
VERSION:2.0
PRODID:-//ChamberMaster//Event Calendar 2.0//EN
METHOD:PUBLISH
X-PUBLISHED-TTL:P3D
REFRESH-INTERVAL:P3D
CALSCALE:GREGORIAN
BEGIN:VEVENT
DTSTART:20140711T130000Z
DTEND:20140711T230000Z
X-MICROSOFT-CDO-ALLDAYEVENT:FALSE
SUMMARY:Educator | Industry Institute Administrator Day
DESCRIPTION:E|II aims to develop a more transparent relationship between industry and educators to better prepare students with skills necessary to entering the ever-evolving workforce.  This year E|II will take place from July 7   July 17th.  For a recap of last year's E|II\, see here.\n\n\n\nThe Educator | Industry Institute now features an "Administrator Day."  This will be a day long event to expose administrators to this important information in an abbreviated way.\n\n\n\nThe day will feature seven 60-minute panels comprised of industry professionals relevant to the following sectors:\n\n	 Innovation/R&D\n	Chemical \n	Energy \n	Automotive \n	Health \n	Tourism \n	Food\n\n\n\nThe day will conclude with a casual reception of industry professionals\, administrations and past and present educator participants of the Educator | Industry Institute.
X-ALT-DESC;FMTTYPE=text/html:E|II aims to develop a more transparent relationship between industry and educators to better prepare students with skills necessary to entering the ever-evolving workforce.&nbsp\; This year E|II will take place from July 7 &ndash\; July 17<sup>th</sup>.&nbsp\; For a recap of last year&rsquo\;s E|II\, see<a href="https://www.youtube.com/watch?v=hDT4BNXxdvw"> </a><a href="https://www.youtube.com/watch?v=hDT4BNXxdvw"><span style="color:black\;">here.</span></a><br />\n<br />\nThe Educator | Industry Institute now features an &quot\;Administrator Day.&quot\; &nbsp\;This will be a day long event to expose administrators to this important information in an abbreviated way.<br />\n<br />\nThe day will feature seven 60-minute panels comprised of industry professionals relevant to the following sectors:\n<ul>\n	<li>&nbsp\;Innovation/R&amp\;D</li>\n	<li>Chemical&nbsp\;</li>\n	<li>Energy&nbsp\;</li>\n	<li>Automotive&nbsp\;</li>\n	<li>Health&nbsp\;</li>\n	<li>Tourism&nbsp\;</li>\n	<li>Food</li>\n</ul>\n<br />\nThe day will conclude with a casual reception of industry professionals\, administrations and past and present educator participants of the Educator | Industry Institute.
LOCATION:Charleston Area Alliance 1116 Smith Street Charleston\, WV 25301 *Parking is available on-site.
UID:e.1499.709
SEQUENCE:3
DTSTAMP:20260421T165319Z
URL:https://business.charlestonareaalliance.org/events/details/educator-industry-institute-administrator-day-07-11-2014-709
END:VEVENT

END:VCALENDAR
