BEGIN:VCALENDAR
VERSION:2.0
PRODID:-//ChamberMaster//Event Calendar 2.0//EN
METHOD:PUBLISH
X-PUBLISHED-TTL:P3D
REFRESH-INTERVAL:P3D
CALSCALE:GREGORIAN
BEGIN:VEVENT
DTSTART;VALUE=DATE:20140707
DTEND;VALUE=DATE:20140718
TRANSP:TRANSPARENT
X-MICROSOFT-CDO-ALLDAYEVENT:TRUE
SUMMARY:Educator | Industry Institute
DESCRIPTION:Vision 2030 identified a communication gap between industry and the education system.  That is\, those employing the future workforce were not communicating those creating the future workforce. To no fault of either sector\, there existed no forum in which educators and industry could connect. The Educator | Industry Institute (E|II) set out to create such a forum.\n\n \n\nE|II is an eight day seminar to which each day focused on a different industry sector. Educators spent the mornings in a seminar type setting receiving an overview of the industry and spent the afternoons on-site at an industry setting touring and connecting with industry professionals. Educators received a $400 stipend for completing the Institute.\n\n \n- See more at: http://www.charlestonareaalliance.org/economic-development/vision2030/education/#sthash.ygA22n4f.dpuf
X-ALT-DESC;FMTTYPE=text/html:<div style="margin: 0px\; padding: 0px\; border: 0px\; font-family: 'Helvetica Neue'\, Helvetica\, Arial\, 'Lucida Grande'\, sans-serif\; font-size: 14px\; line-height: 14px\; vertical-align: baseline\; color: rgb(78\, 78\, 78)\;">Vision 2030 identified a communication gap between industry and the education system. &nbsp\;That is\, those employing the future workforce were not communicating those creating the future workforce. To no fault of either sector\, there existed no forum in which educators and industry could connect. The Educator | Industry Institute (E|II) set out to create such a forum.<br />\n&nbsp\;</div>\n\n<div style="margin: 0px\; padding: 0px\; border: 0px\; font-family: 'Helvetica Neue'\, Helvetica\, Arial\, 'Lucida Grande'\, sans-serif\; font-size: 14px\; line-height: 14px\; vertical-align: baseline\; color: rgb(78\, 78\, 78)\;">E|II is an eight day seminar to which each day focused on a different industry sector. Educators spent the mornings in a seminar type setting receiving an overview of the industry and spent the afternoons on-site at an industry setting touring and connecting with industry professionals. Educators received a $400 stipend for completing the Institute.<br />\n&nbsp\;</div>\n<span style="color: rgb(78\, 78\, 78)\; font-family: 'Helvetica Neue'\, Helvetica\, Arial\, 'Lucida Grande'\, sans-serif\; font-size: 14px\; line-height: 14px\;">- See more at: http://www.charlestonareaalliance.org/economic-development/vision2030/education/#sthash.ygA22n4f.dpuf</span>
LOCATION:
UID:e.1499.708
SEQUENCE:3
DTSTAMP:20260421T164801Z
URL:https://business.charlestonareaalliance.org/events/details/educator-industry-institute-07-07-2014-708
END:VEVENT

END:VCALENDAR
