BEGIN:VCALENDAR
VERSION:2.0
PRODID:-//ChamberMaster//Event Calendar 2.0//EN
METHOD:PUBLISH
X-PUBLISHED-TTL:P3D
REFRESH-INTERVAL:P3D
CALSCALE:GREGORIAN
BEGIN:VEVENT
DTSTART:20140805T160000Z
DTEND:20140805T170000Z
X-MICROSOFT-CDO-ALLDAYEVENT:FALSE
SUMMARY:Education Elevators\, Training and Orientation - August 2014
DESCRIPTION:Generation Charleston is pleased to be teaming up with the Education Elevators program as one of our new community outreach initiatives.   \n\n\n\nEducation Elevators\, a program of Charleston Area Alliance member The Education Alliance\, is a mentoring program that matches volunteers (Elevators) from the business community with individual students for mentoring\, academic support and friendship.  \n\n\n\nElevators meet with their assigned student one-on-one for approximately 30-45 minutes each week during regular school hours on school grounds.   \n\n\n\nThe mission of the program is to "elevate" the abilities and aspirations of students.  \n\n\n\nCurrently\, members of GC can elect to mentor a student at Piedmont\, Grandview or Chamberlain Elementary.\n\n\n\nThrough involvement in the Education Elevators program\, you can make a difference by supporting\, mentoring and inspiring children in our community.   \n\n\n\nWe encourage GC members to attend the training and orientation to learn more about the program.  (There is no commitment to become an Elevator if you attend the training).  \n\n\n\nYou must be a member of GC to attend. Food will be provided. RSVP is also required.\n\n\n\nYou can learn more about the program at: www.educationelevators.org
X-ALT-DESC;FMTTYPE=text/html:<br />\nGeneration Charleston is pleased to be teaming up with the Education Elevators program as one of our new community outreach initiatives.&nbsp\; &nbsp\;<br />\n<br />\nEducation Elevators\, a program of Charleston Area Alliance member The Education Alliance\, is a mentoring program that matches volunteers (Elevators) from the business community with individual students for mentoring\, academic support and friendship. &nbsp\;<br />\n<br />\nElevators meet with their assigned student one-on-one for approximately 30-45 minutes each week during regular school hours on school grounds.&nbsp\; &nbsp\;<br />\n<br />\nThe mission of the program is to &quot\;elevate&quot\; the abilities and aspirations of students. &nbsp\;<br />\n<br />\nCurrently\, members of GC can elect to mentor a student at Piedmont\, Grandview or Chamberlain Elementary.<br />\n<br />\nThrough involvement in the Education Elevators program\, you can make a difference by supporting\, mentoring and inspiring children in our community.&nbsp\; &nbsp\;<br />\n<br />\nWe encourage GC members to attend the training and orientation to learn more about the program.&nbsp\; (There is no commitment to become an Elevator if you attend the training). &nbsp\;<br />\n<br />\nYou must be a member of GC to attend. Food will be provided. RSVP is also required.<br />\n<br />\nYou can learn more about the program at: www.educationelevators.org
LOCATION:Jackson Kelly PLLC 500 Lee Street East\, 16th Floor
UID:e.1499.721
SEQUENCE:3
DTSTAMP:20260421T154706Z
URL:https://business.charlestonareaalliance.org/events/details/education-elevators-training-and-orientation-august-2014-08-05-2014-721
END:VEVENT

END:VCALENDAR
