BEGIN:VCALENDAR
VERSION:2.0
PRODID:-//ChamberMaster//Event Calendar 2.0//EN
METHOD:PUBLISH
X-PUBLISHED-TTL:P3D
REFRESH-INTERVAL:P3D
CALSCALE:GREGORIAN
BEGIN:VEVENT
DTSTART:20130507T160000Z
DTEND:20130507T170000Z
X-MICROSOFT-CDO-ALLDAYEVENT:FALSE
SUMMARY:e4: Conversation about Conservation - May 2013
DESCRIPTION:Join the Alliance and others from the community for this Conversation about Conservation featuring special guest Alan Bragg of Appalachian Power. The discussion focuses on how to read your electricity bill\, online options and what to expect going forward as a utility customer. \n\n	Bring your brown bag lunch and engage in this dialogue regarding how to conserve energy and reduce your utility costs. Noon to 1pm on May 7th in the Large Conference Room at the Charleston Area Alliance. \n\n	Advance registration is required for this free event via the link above. \n\n	\n\n	If you work with an Alliance member business and need assistance locating your password\, please email Leigh Anne Strickland\, Director Member Programs and Services.
X-ALT-DESC;FMTTYPE=text/html:<p>\n	Join the Alliance and others from the community for this Conversation about Conservation featuring special guest Alan Bragg of Appalachian Power. The discussion focuses on how to read your electricity bill\, online options and what to expect going forward as a utility customer.&nbsp\;</p>\n<p>\n	Bring your brown bag lunch and engage in this dialogue regarding how to conserve energy and reduce your utility costs. Noon to 1pm on May 7th in the Large Conference Room at the Charleston Area Alliance.&nbsp\;</p>\n<p>\n	<span style="color:#b22222\;">Advance registration is required for this free event via the link above</span>.&nbsp\;<br />\n	<br />\n	If you work with an Alliance member business and need assistance locating your <span style="color:#b22222\;">password</span>\, please email <a href="mailto:LStrickland@charlestonareaalliance.org?subject=Password%20Inquiry">Leigh Anne Strickland</a>\, Director Member Programs and Services.&nbsp\;</p>\n<p>\n	<br />\n	&nbsp\;</p>\n
LOCATION:Charleston Area Alliance *Large Conference Room 1116 Smith Street Charleston\, WV 25301
UID:e.1499.641
SEQUENCE:3
DTSTAMP:20260422T101343Z
URL:https://business.charlestonareaalliance.org/events/details/e4-conversation-about-conservation-may-2013-05-07-2013-641
END:VEVENT

END:VCALENDAR
