BEGIN:VCALENDAR
VERSION:2.0
PRODID:-//ChamberMaster//Event Calendar 2.0//EN
METHOD:PUBLISH
X-PUBLISHED-TTL:P3D
REFRESH-INTERVAL:P3D
CALSCALE:GREGORIAN
BEGIN:VEVENT
DTSTART:20170923T203000Z
DTEND:20170924T010000Z
X-MICROSOFT-CDO-ALLDAYEVENT:FALSE
SUMMARY:Downtown Streetfest - Sept 2017
DESCRIPTION:Head down to Capitol Street for Downtown Streetfest block party Saturday\, Sept. 23 with Beggars Clan.\n\n\n\nMeet up with friends and family between 4:30 and 9 p.m. for live music\, food and drinks\, kid's activities\, pop-up shops and much more. Grab a bite to eat at your favorite downtown establishments and listen to some live music.\n\n\n\nThe event is presented with title sponsorship support from City National Bank\, beverage sponsorship from Mountain State Beverage and Bell's Brewing Company\, placemaking sponsorship from GAI Community Solutions Group and the Charleston Convention & Visitor's Bureau\, and supporting sponsorship support from the Kanawha County Public Library and Tony the Tailor.
X-ALT-DESC;FMTTYPE=text/html:<p>Head down to Capitol Street for Downtown Streetfest&nbsp\;block party Saturday\, Sept. 23 with Beggars Clan.<br />\n<br />\n<span style="color: rgb(20\, 24\, 35)\;">Meet up with friends and family between 4:30 and&nbsp\;9 p.m. for live music\, food and drinks\, kid&#39\;s activities\, pop-up shops and much more. Grab a bite to eat at your favorite downtown establishments and listen to some live music.<br />\n<br />\nThe event is presented with title sponsorship support from&nbsp\;City National Bank\, beverage sponsorship from Mountain State Beverage and Bell&#39\;s Brewing Company\, placemaking&nbsp\;sponsorship from GAI Community Solutions Group and the Charleston Convention &amp\; Visitor&#39\;s Bureau\, and supporting sponsorship support from the&nbsp\;Kanawha County Public Library and Tony the Tailor.&nbsp\;</span><br />\n<span style="color: rgb(20\, 24\, 35)\;">&nbsp\;</span></p>\n
LOCATION:Capitol Street\, between Kanawha Boulevard and Virginia Street.
UID:e.1499.1923
SEQUENCE:3
DTSTAMP:20260419T164033Z
URL:https://business.charlestonareaalliance.org/events/details/downtown-streetfest-sept-2017-1923
END:VEVENT

END:VCALENDAR
